BEGIN:VCALENDAR
VERSION:2.0
PRODID:-//ASIAN, Inc. | Non-profit - ECPv6.15.17.1//NONSGML v1.0//EN
CALSCALE:GREGORIAN
METHOD:PUBLISH
X-WR-CALNAME:ASIAN, Inc. | Non-profit
X-ORIGINAL-URL:https://www.asianinc.org
X-WR-CALDESC:Events for ASIAN, Inc. | Non-profit
REFRESH-INTERVAL;VALUE=DURATION:PT1H
X-Robots-Tag:noindex
X-PUBLISHED-TTL:PT1H
BEGIN:VTIMEZONE
TZID:America/Los_Angeles
BEGIN:DAYLIGHT
TZOFFSETFROM:-0800
TZOFFSETTO:-0700
TZNAME:PDT
DTSTART:20240310T100000
END:DAYLIGHT
BEGIN:STANDARD
TZOFFSETFROM:-0700
TZOFFSETTO:-0800
TZNAME:PST
DTSTART:20241103T090000
END:STANDARD
BEGIN:DAYLIGHT
TZOFFSETFROM:-0800
TZOFFSETTO:-0700
TZNAME:PDT
DTSTART:20250309T100000
END:DAYLIGHT
BEGIN:STANDARD
TZOFFSETFROM:-0700
TZOFFSETTO:-0800
TZNAME:PST
DTSTART:20251102T090000
END:STANDARD
BEGIN:DAYLIGHT
TZOFFSETFROM:-0800
TZOFFSETTO:-0700
TZNAME:PDT
DTSTART:20260308T100000
END:DAYLIGHT
BEGIN:STANDARD
TZOFFSETFROM:-0700
TZOFFSETTO:-0800
TZNAME:PST
DTSTART:20261101T090000
END:STANDARD
END:VTIMEZONE
BEGIN:VEVENT
DTSTART;TZID=America/Los_Angeles:20250123T173000
DTEND;TZID=America/Los_Angeles:20250123T193000
DTSTAMP:20260420T015529
CREATED:20250121T063652Z
LAST-MODIFIED:20250620T040936Z
UID:716-1737653400-1737660600@www.asianinc.org
SUMMARY:AAPI Empower Hour: Building Bridges
DESCRIPTION:Kick off 2025 with our next AAPI Empower Hour: Building Bridges\, hosted at Chinese Cultural Center in the heart of San Francisco&apos;s Chinatown. \nThis event is designed to bring professionals from the for-profit sector together with local community-based organizations (CBOs) for an evening of connection\, collaboration\, and community impact. \nWhat to Expect: \n\nEngage in meaningful networking in a beautiful\, culturally-rich space.\nLearn about the incredible missions of local CBOs as they share their goals and needs\, from recruiting board members to increasing program awareness.\nDiscover opportunities to volunteer\, serve on a board\, or partner with organizations aligned with your values.\n\nEvent Details: \n\nDate: Thursday\, January 23\, 2025\nTime: 5:30 PM – 7:30 PM\nLocation: Chinese Cultural Center\, 750 Kearny Street (3rd Floor)\, San Francisco\n\nAdmission Perks: Your ticket includes a delicious food box to enjoy during the event! \n✨ Let&apos;s start the new year by building bridges and strengthening our community. We look forward to connecting with you!
URL:https://www.asianinc.org/event/aapi-empower-hour-building-bridges/
LOCATION:SF Chinatown\, Chinese Culture Center\, 750 Kearny Street 3rd Floor\, San Francisco\, CA\, 94108\, United States
CATEGORIES:Advocacy
ATTACH;FMTTYPE=image/jpeg:https://www.asianinc.org/wp-content/uploads/2025/01/AAPI-Empower-Hour-Building-Bridges-jpg.jpg
END:VEVENT
END:VCALENDAR