BEGIN:VCALENDAR
VERSION:2.0
PRODID:-//ASIAN, Inc. | Non-profit - ECPv6.15.17.1//NONSGML v1.0//EN
CALSCALE:GREGORIAN
METHOD:PUBLISH
X-WR-CALNAME:ASIAN, Inc. | Non-profit
X-ORIGINAL-URL:https://www.asianinc.org
X-WR-CALDESC:Events for ASIAN, Inc. | Non-profit
REFRESH-INTERVAL;VALUE=DURATION:PT1H
X-Robots-Tag:noindex
X-PUBLISHED-TTL:PT1H
BEGIN:VTIMEZONE
TZID:UTC
BEGIN:STANDARD
TZOFFSETFROM:+0000
TZOFFSETTO:+0000
TZNAME:UTC
DTSTART:20240101T000000
END:STANDARD
END:VTIMEZONE
BEGIN:VEVENT
DTSTART;TZID=UTC:20251029T180000
DTEND;TZID=UTC:20251029T193000
DTSTAMP:20260420T015652
CREATED:20251022T233836Z
LAST-MODIFIED:20251022T234637Z
UID:7026-1761760800-1761766200@www.asianinc.org
SUMMARY:Draft Plan Bay Area 2050+ Is Here: Webinar #2 – West Bay
DESCRIPTION:View this information online in English\n在網上查看中文版詳情\nVer la información en línea en español \nAfter more than two years of public discussion\, technical analysis and refinement\, the Metropolitan Transportation Commission (MTC) and Association of Bay Area Governments (ABAG) have released Draft Plan Bay Area 2050+ for review and comment. The plan contains 35 strategies representing public policies and investments that can be implemented in the Bay Area by 2050 to help the region build more homes\, reduce commute times\, and create vibrant downtowns and natural areas for everyone to enjoy. The plan’s strategies also aim to keep people safe from natural hazards\, support a strong economy and provide stable housing for those who need it most.  \nUnique to this plan cycle is the parallel Transit 2050+ planning effort\, which has culminated in the first-of-its-kind plan to re-envision the future of Bay Area public transit\, in partnership with transit operators across the region. \nThe Draft Plan\, along with the Draft Implementation Plan and various supplemental reports\, are all available for review and comment. \nRead Draft Plan Bay Area 2050+ and the supplemental reports at planbayarea.org/draftplan and submit your comments by December 18. \nOpportunities to Participate\nWebinars\n\nWebinar #1 – North Bay\nWednesday\, October 29\, 2025\n12-1:30 p.m.\nZoom link: https://bit.ly/northbaywebinar\n\nWebinar ID: 892 3077 8001\nPasscode: 256814\n888-788-0099 US Toll Free   \n\nWebinar #2 – West Bay\nWednesday\, October 29\, 2025\n6-7:30 p.m.\nZoom link: https://bit.ly/westbaywebinar\nWebinar ID: 831 4140 5598\nPasscode: 096944\n888-788-0099 US Toll Free  \nWebinar #3 – South Bay\nThursday\, October 30\, 2025\n6-7:30 p.m.\nZoom link: https://bit.ly/southbaywebinar\nWebinar ID: 822 2561 7467\nPasscode: 356845\n888-788-0099 US Toll Free  \n\nWebinar #4 – East Bay\nWednesday\, November 5\, 2025\n6-7:30 p.m.\nZoom link: https://bit.ly/eastbaywebinar\nWebinar ID: 869 8283 4999\nPasscode: 682098\n888-788-0099 US Toll Free
URL:https://www.asianinc.org/event/draft-plan-bay-area-2050-is-here-webinar-2-west-bay/
LOCATION:Zoom Webinar (Online)
CATEGORIES:Housing
ATTACH;FMTTYPE=image/png:https://www.asianinc.org/wp-content/uploads/2025/10/PBA-2050-png.png
END:VEVENT
END:VCALENDAR