BEGIN:VCALENDAR
VERSION:2.0
PRODID:-//ASIAN, Inc. | Non-profit - ECPv6.15.17.1//NONSGML v1.0//EN
CALSCALE:GREGORIAN
METHOD:PUBLISH
X-WR-CALNAME:ASIAN, Inc. | Non-profit
X-ORIGINAL-URL:https://www.asianinc.org
X-WR-CALDESC:Events for ASIAN, Inc. | Non-profit
REFRESH-INTERVAL;VALUE=DURATION:PT1H
X-Robots-Tag:noindex
X-PUBLISHED-TTL:PT1H
BEGIN:VTIMEZONE
TZID:UTC
BEGIN:STANDARD
TZOFFSETFROM:+0000
TZOFFSETTO:+0000
TZNAME:UTC
DTSTART:20240101T000000
END:STANDARD
END:VTIMEZONE
BEGIN:VEVENT
DTSTART;TZID=UTC:20251116T100000
DTEND;TZID=UTC:20251116T170000
DTSTAMP:20260420T015641
CREATED:20251024T181017Z
LAST-MODIFIED:20251028T061103Z
UID:7068-1763287200-1763312400@www.asianinc.org
SUMMARY:First-Time Homebuyer Education & Certification Workshop (Online English Workshop)
DESCRIPTION:By attending the First-time Homebuyer Education & Certification Workshop\, you can learn about the basic requirements of mortgage and how to improve credit and financial management skills. In addition\, you can learn the steps to buy a house\, including shopping for a home\, making an offer and the closing period\, so that you can make better preparations before buying a house! \n  \nWorkshop Fee: Free\nHow to Join: Zoom Webinar ( the meeting details will be provided upon registration confirmation)\nRegistration Link: https://asian-inc.zoom.us/meeting/register/6wRzfawNQbaXifltpjyObw \n  \nWorkshop Topics \n\nThe Importance of Credit and Financial Management\nBasic Requirements of Mortgage\nKnowledge of Real Estate\nSteps to Buy A House\n\n  \nHow to Get An Education Completion Letter \n\nComplete the 2-hour SFMOHCD Homebuyer Orientation (Only for participation in the San Francisco Housing Assistance Program)\nComplete the 6-hour First-Time Homebuyer Workshop\nComplete the 2-hour Homebuyer Counseling Section\n\n  \nWorkshop Details\nSections\nThe workshop is held in two sections\, with an hour break in between. You must attend both sections. \n\nSection I: 10 am – 1 pm\nSection II: 2 pm – 5 pm\n\n  \nLanguage\nThe workshop is conducted in English.
URL:https://www.asianinc.org/event/first-time-homebuyer-education-certification-workshop-online-english-workshop/
LOCATION:Zoom Webinar (Online)
CATEGORIES:Housing
ATTACH;FMTTYPE=image/png:https://www.asianinc.org/wp-content/uploads/2025/10/FTHB_workshop_English-png.png
END:VEVENT
END:VCALENDAR