BEGIN:VCALENDAR
VERSION:2.0
PRODID:-//ASIAN, Inc. | Non-profit - ECPv6.15.17.1//NONSGML v1.0//EN
CALSCALE:GREGORIAN
METHOD:PUBLISH
X-WR-CALNAME:ASIAN, Inc. | Non-profit
X-ORIGINAL-URL:https://www.asianinc.org
X-WR-CALDESC:Events for ASIAN, Inc. | Non-profit
REFRESH-INTERVAL;VALUE=DURATION:PT1H
X-Robots-Tag:noindex
X-PUBLISHED-TTL:PT1H
BEGIN:VTIMEZONE
TZID:UTC
BEGIN:STANDARD
TZOFFSETFROM:+0000
TZOFFSETTO:+0000
TZNAME:UTC
DTSTART:20240101T000000
END:STANDARD
END:VTIMEZONE
BEGIN:VEVENT
DTSTART;TZID=UTC:20251015T100000
DTEND;TZID=UTC:20251015T123000
DTSTAMP:20260420T015527
CREATED:20251022T231159Z
LAST-MODIFIED:20251022T231159Z
UID:7010-1760522400-1760531400@www.asianinc.org
SUMMARY:Milpitas Job & Resource Fair
DESCRIPTION:Join Us at the Milpitas Job & Resource Fair!\nASIAN\, Inc. will be joining Milpitas United School District to share free\, community-focused information on workplace rights and protections. Whether you’re a job seeker\, worker\, or employer\, our team will provide important resources on local wage laws\, workplace protections\, and legal assistance services available in Santa Clara County. \nMilpitas Innovation Campus\, 1331 E. Calaveras Blvd. B115\, Milpitas\, CA\nWednesday\, October 15\, 2025 | 10:00 AM – 12:30 PM \nStop by our table to pick up multilingual resources\, ask questions\, and learn how you or your workplace can stay informed and empowered.
URL:https://www.asianinc.org/event/milpitas-job-resource-fair/
LOCATION:Milpitas Innovation Campus\, 1331 E. Calaveras Blvd.\, Milpitas\, CA\, 95035\, United States
CATEGORIES:Business,Community
ATTACH;FMTTYPE=image/jpeg:https://www.asianinc.org/wp-content/uploads/2025/10/Milpitas-Job-Fair-Flyer-Final-jpg.jpg
END:VEVENT
END:VCALENDAR