BEGIN:VCALENDAR
VERSION:2.0
PRODID:-//ASIAN, Inc. | Non-profit - ECPv6.15.17.1//NONSGML v1.0//EN
CALSCALE:GREGORIAN
METHOD:PUBLISH
X-WR-CALNAME:ASIAN, Inc. | Non-profit
X-ORIGINAL-URL:https://www.asianinc.org
X-WR-CALDESC:Events for ASIAN, Inc. | Non-profit
REFRESH-INTERVAL;VALUE=DURATION:PT1H
X-Robots-Tag:noindex
X-PUBLISHED-TTL:PT1H
BEGIN:VTIMEZONE
TZID:America/Los_Angeles
BEGIN:DAYLIGHT
TZOFFSETFROM:-0800
TZOFFSETTO:-0700
TZNAME:PDT
DTSTART:20240310T100000
END:DAYLIGHT
BEGIN:STANDARD
TZOFFSETFROM:-0700
TZOFFSETTO:-0800
TZNAME:PST
DTSTART:20241103T090000
END:STANDARD
BEGIN:DAYLIGHT
TZOFFSETFROM:-0800
TZOFFSETTO:-0700
TZNAME:PDT
DTSTART:20250309T100000
END:DAYLIGHT
BEGIN:STANDARD
TZOFFSETFROM:-0700
TZOFFSETTO:-0800
TZNAME:PST
DTSTART:20251102T090000
END:STANDARD
BEGIN:DAYLIGHT
TZOFFSETFROM:-0800
TZOFFSETTO:-0700
TZNAME:PDT
DTSTART:20260308T100000
END:DAYLIGHT
BEGIN:STANDARD
TZOFFSETFROM:-0700
TZOFFSETTO:-0800
TZNAME:PST
DTSTART:20261101T090000
END:STANDARD
END:VTIMEZONE
BEGIN:VEVENT
DTSTART;VALUE=DATE:20250225
DTEND;VALUE=DATE:20250228
DTSTAMP:20260420T015544
CREATED:20250121T062122Z
LAST-MODIFIED:20250619T041024Z
UID:712-1740441600-1740700799@www.asianinc.org
SUMMARY:Native Partnerships: Leveraging Resources to Advance Homeownership and Economic Development
DESCRIPTION:Save the Date for the Native Partnership Gathering in San Joaquin Valley\, California \nFebruary 25-27\, 2025 \nThe Native CDFI Network\, in collaboration with NeighborWorks America\, is excited to announce the Native Partnership Gathering at the Tachi Palace Resort in the San Joaquin Valley\, California\, from February 25-27\, 2025. This gathering will focus on “Leveraging Resources to Advance Homeownership and Economic Development\,” and aims to strengthen the relationships between tribes\, Native CDFIs\, nonprofit organizations\, NeighborWorks network organizations\, and other key stakeholders. Our goal is to foster collaboration and shared learning\, while uplifting best practices in tribal partnerships\, highlighting the success stories of Native CDFIs\, and advancing solutions that promote Native homeownership and economic development.Stay tuned for more details\, including registration information and an agenda for the event. We look forward to seeing you in the San Joaquin Valley and building meaningful connections to help strengthen Native communities. Mark your calendars now for this important event.
URL:https://www.asianinc.org/event/native-partnerships-leveraging-resources/
LOCATION:Tachi Palace Resort\, Tachi Palace Casino Resort\, 17225 Jersey Ave\, Lemoore\, CA\, 93245\, United States
CATEGORIES:Business
ATTACH;FMTTYPE=image/png:https://www.asianinc.org/wp-content/uploads/2025/01/Native-Partnership-png.png
END:VEVENT
END:VCALENDAR