BEGIN:VCALENDAR
VERSION:2.0
PRODID:-//ASIAN, Inc. | Non-profit - ECPv6.15.17.1//NONSGML v1.0//EN
CALSCALE:GREGORIAN
METHOD:PUBLISH
X-WR-CALNAME:ASIAN, Inc. | Non-profit
X-ORIGINAL-URL:https://www.asianinc.org
X-WR-CALDESC:Events for ASIAN, Inc. | Non-profit
REFRESH-INTERVAL;VALUE=DURATION:PT1H
X-Robots-Tag:noindex
X-PUBLISHED-TTL:PT1H
BEGIN:VTIMEZONE
TZID:UTC
BEGIN:STANDARD
TZOFFSETFROM:+0000
TZOFFSETTO:+0000
TZNAME:UTC
DTSTART:20240101T000000
END:STANDARD
END:VTIMEZONE
BEGIN:VEVENT
DTSTART;TZID=UTC:20251011T180000
DTEND;TZID=UTC:20251011T220000
DTSTAMP:20260420T015526
CREATED:20250917T175438Z
LAST-MODIFIED:20250917T175438Z
UID:6746-1760205600-1760220000@www.asianinc.org
SUMMARY:Plate by Plate SF
DESCRIPTION:Project by Project (PbP) invites you to join for an unforgettable evening at Plate by Plate – San Francisco\, where top chefs\, culinary brands\, beverage concepts\, community organizations\, and leaders from across the Bay Area will gather to celebrate Asian American and Pacific Islander (AAPI) philanthropy and the local nonprofit community. In addition to enjoying premium tastings from 30+ food and beverage partners\, guests will enjoy live entertainment\, a silent auction\, raffle prizes\, and more.  \nPlate by Plate is PbP’s signature annual fundraising event\, featuring a specially-curated collection of the finest restaurants and beverage vendors across the San Francisco Bay Area. This year\, Plate by Plate will be held at San Francisco Design Center Galleria\, a stunning venue nestled in the heart of the city\, featuring a multi-floor architecture fit for an evening of luxury and style. The event will be attended by fan-favorite culinary partners as well as many new vendors with unique bites\, sips\, and desserts to try! \n\n\nVIP Admission: 6pm \n\n\nGeneral Admission: 7pm \n\n\nLast Admission to Plate by Plate: 8:30pm  \n\n\nCheck out last year’s Plate by Plate recap video here! Proceeds from this year’s event will support Project by Project’s mission of developing a pipeline of AAPI leaders through innovative philanthropy\, as well as Project by Project’s annual theme of community development and its 2025 beneficiary partner\, ASIAN\, Inc.!  \nWith the purchase of every ticket to Plate by Plate\, Project by Project will donate directly to ASIAN\, Inc.\, helping to provide affordable housing\, business development\, and financial independence to Asian Americans and other socioeconomically disadvantaged communities.
URL:https://www.asianinc.org/event/plate-by-plate-sf/
LOCATION:SF Design Center Galleria\, 101 Henry Adams St\, San Francisco\, CA\, 94103\, United States
CATEGORIES:Advocacy,Business
ATTACH;FMTTYPE=image/png:https://www.asianinc.org/wp-content/uploads/2025/09/10.11.2025-PbP-png.png
END:VEVENT
END:VCALENDAR