BEGIN:VCALENDAR
VERSION:2.0
PRODID:-//ASIAN, Inc. | Non-profit - ECPv6.15.17.1//NONSGML v1.0//EN
CALSCALE:GREGORIAN
METHOD:PUBLISH
X-WR-CALNAME:ASIAN, Inc. | Non-profit
X-ORIGINAL-URL:https://www.asianinc.org
X-WR-CALDESC:Events for ASIAN, Inc. | Non-profit
REFRESH-INTERVAL;VALUE=DURATION:PT1H
X-Robots-Tag:noindex
X-PUBLISHED-TTL:PT1H
BEGIN:VTIMEZONE
TZID:America/Los_Angeles
BEGIN:DAYLIGHT
TZOFFSETFROM:-0800
TZOFFSETTO:-0700
TZNAME:PDT
DTSTART:20230312T100000
END:DAYLIGHT
BEGIN:STANDARD
TZOFFSETFROM:-0700
TZOFFSETTO:-0800
TZNAME:PST
DTSTART:20231105T090000
END:STANDARD
BEGIN:DAYLIGHT
TZOFFSETFROM:-0800
TZOFFSETTO:-0700
TZNAME:PDT
DTSTART:20240310T100000
END:DAYLIGHT
BEGIN:STANDARD
TZOFFSETFROM:-0700
TZOFFSETTO:-0800
TZNAME:PST
DTSTART:20241103T090000
END:STANDARD
BEGIN:DAYLIGHT
TZOFFSETFROM:-0800
TZOFFSETTO:-0700
TZNAME:PDT
DTSTART:20250309T100000
END:DAYLIGHT
BEGIN:STANDARD
TZOFFSETFROM:-0700
TZOFFSETTO:-0800
TZNAME:PST
DTSTART:20251102T090000
END:STANDARD
END:VTIMEZONE
BEGIN:VEVENT
DTSTART;TZID=America/Los_Angeles:20241126T180000
DTEND;TZID=America/Los_Angeles:20241126T200000
DTSTAMP:20260420T015519
CREATED:20250121T070547Z
LAST-MODIFIED:20250723T084019Z
UID:734-1732644000-1732651200@www.asianinc.org
SUMMARY:Post-Purchase Workshop : Taxes and Insurance (Cantonese)
DESCRIPTION:This workshop offers guidance on property taxes\, supplemental tax bills\, and income tax deductions for new homeowners. It emphasizes the importance of planning for supplemental tax bills and understanding homeowner’s insurance. The workshop is aimed to empower new homeowners with essential knowledge to navigate their financial responsibilities successfully. \nHow to Join: Zoom Meeting\nRegistration Link: https://us06web.zoom.us/meeting/register/tZUofumtqTIjE9VEty-KBGiS-8he8tjXKf2H\nAfter you register: \n\nYou will receive an email confirmation including the link to Zoom.\nWhen you join the online workshop on Zoom\, you will be required to enter your legal name as shown on your ID/Driver’s License\, your own email address and other required information.
URL:https://www.asianinc.org/event/post-purchase-workshop/
CATEGORIES:Housing
END:VEVENT
END:VCALENDAR