BEGIN:VCALENDAR
VERSION:2.0
PRODID:-//ASIAN, Inc. | Non-profit - ECPv6.15.17.1//NONSGML v1.0//EN
CALSCALE:GREGORIAN
METHOD:PUBLISH
X-WR-CALNAME:ASIAN, Inc. | Non-profit
X-ORIGINAL-URL:https://www.asianinc.org
X-WR-CALDESC:Events for ASIAN, Inc. | Non-profit
REFRESH-INTERVAL;VALUE=DURATION:PT1H
X-Robots-Tag:noindex
X-PUBLISHED-TTL:PT1H
BEGIN:VTIMEZONE
TZID:UTC
BEGIN:STANDARD
TZOFFSETFROM:+0000
TZOFFSETTO:+0000
TZNAME:UTC
DTSTART:20240101T000000
END:STANDARD
END:VTIMEZONE
BEGIN:VEVENT
DTSTART;TZID=UTC:20251014T130000
DTEND;TZID=UTC:20251014T150000
DTSTAMP:20260420T020207
CREATED:20251021T175249Z
LAST-MODIFIED:20251021T175249Z
UID:7001-1760446800-1760454000@www.asianinc.org
SUMMARY:Preserving Home Ownership in Hayward: Heart of the Bay
DESCRIPTION:🏠 Preserving Home Ownership in Hayward: Heart of the Bay\n📅 Tuesday\, October 14 | 1:00–3:00 PM\n📍 Hayward Public Library | 888 C Street\, Hayward\, CA 94541 \nAcross California\, home ownership is often seen as a pathway to stability yet for many Hayward families\, hidden risks like deed theft\, predatory HOA practices\, inheritance disputes\, and language barriers threaten that dream. \nJoin us for an on-site community forum bringing together attorneys\, advocates\, and homeowners to explore these challenges and share practical steps to protect family homes. Together\, we’ll highlight why preserving home ownership strengthens not just families\, but entire communities.
URL:https://www.asianinc.org/event/preserving-home-ownership-in-hayward-heart-of-the-bay/
LOCATION:Hayward Public Library\, 888 C Street\, Hayward\, CA\, 94541\, United States
CATEGORIES:Community,Housing
ATTACH;FMTTYPE=image/png:https://www.asianinc.org/wp-content/uploads/2025/10/Invite-10-14-25-HERA-Home-Ownership-2-1-png-scaled.png
END:VEVENT
END:VCALENDAR