BEGIN:VCALENDAR
VERSION:2.0
PRODID:-//ASIAN, Inc. | Non-profit - ECPv6.15.17.1//NONSGML v1.0//EN
CALSCALE:GREGORIAN
METHOD:PUBLISH
X-WR-CALNAME:ASIAN, Inc. | Non-profit
X-ORIGINAL-URL:https://www.asianinc.org
X-WR-CALDESC:Events for ASIAN, Inc. | Non-profit
REFRESH-INTERVAL;VALUE=DURATION:PT1H
X-Robots-Tag:noindex
X-PUBLISHED-TTL:PT1H
BEGIN:VTIMEZONE
TZID:America/Los_Angeles
BEGIN:DAYLIGHT
TZOFFSETFROM:-0800
TZOFFSETTO:-0700
TZNAME:PDT
DTSTART:20230312T100000
END:DAYLIGHT
BEGIN:STANDARD
TZOFFSETFROM:-0700
TZOFFSETTO:-0800
TZNAME:PST
DTSTART:20231105T090000
END:STANDARD
BEGIN:DAYLIGHT
TZOFFSETFROM:-0800
TZOFFSETTO:-0700
TZNAME:PDT
DTSTART:20240310T100000
END:DAYLIGHT
BEGIN:STANDARD
TZOFFSETFROM:-0700
TZOFFSETTO:-0800
TZNAME:PST
DTSTART:20241103T090000
END:STANDARD
BEGIN:DAYLIGHT
TZOFFSETFROM:-0800
TZOFFSETTO:-0700
TZNAME:PDT
DTSTART:20250309T100000
END:DAYLIGHT
BEGIN:STANDARD
TZOFFSETFROM:-0700
TZOFFSETTO:-0800
TZNAME:PST
DTSTART:20251102T090000
END:STANDARD
END:VTIMEZONE
BEGIN:VEVENT
DTSTART;TZID=America/Los_Angeles:20241106T180000
DTEND;TZID=America/Los_Angeles:20241106T200000
DTSTAMP:20260423T033729
CREATED:20250121T070202Z
LAST-MODIFIED:20250619T042100Z
UID:733-1730916000-1730923200@www.asianinc.org
SUMMARY:MOHCD Homebuyer Program Orientation (English)
DESCRIPTION:MOHCD Homebuyer Program Orientation (English) \nJoin us for a free2-hour orientation to learn about San Francisco homebuyer programs offered by the Mayor’s Office of Housing and Community Development (MOHCD) and decide if you want to move forward with the remaining homebuyer education. The orientation provides an overview of affordable city programs\, including eligibility requirements\, down payment assistance\, the application process\, lottery preferences\, and more! \nHow to Join: Zoom Webinar \nRegistration Link: https://us06web.zoom.us/webinar/register/WN_tojvCRF9Rdmdj5qcgF1K1A \nFor any question\, please send an email to housing.counseling@asianinc.org. \nTopics \n\nBenefits & Responsibilities of Homeownership\nMOHCD Homebuyer Programs\nBelow Market Rate Homes\nDown Payment Assistance\n\nLanguage \nThis orientation is conducted in English.
URL:https://www.asianinc.org/event/mohcd-homebuyer-program-orientation/
CATEGORIES:Housing
END:VEVENT
END:VCALENDAR