BEGIN:VCALENDAR
VERSION:2.0
PRODID:-//ASIAN, Inc. | Non-profit - ECPv6.15.17.1//NONSGML v1.0//EN
CALSCALE:GREGORIAN
METHOD:PUBLISH
X-ORIGINAL-URL:https://www.asianinc.org
X-WR-CALDESC:Events for ASIAN, Inc. | Non-profit
REFRESH-INTERVAL;VALUE=DURATION:PT1H
X-Robots-Tag:noindex
X-PUBLISHED-TTL:PT1H
BEGIN:VTIMEZONE
TZID:UTC
BEGIN:STANDARD
TZOFFSETFROM:+0000
TZOFFSETTO:+0000
TZNAME:UTC
DTSTART:20240101T000000
END:STANDARD
END:VTIMEZONE
BEGIN:VEVENT
DTSTART;TZID=UTC:20251101T100000
DTEND;TZID=UTC:20251101T120000
DTSTAMP:20260420T042749
CREATED:20251024T180358Z
LAST-MODIFIED:20251024T182559Z
UID:7064-1761991200-1761998400@www.asianinc.org
SUMMARY:MOHCD Homebuyer Program Orientation (Online - English)
DESCRIPTION:MOHCD Homebuyer Program Orientation (English) \nJoin us for a free2-hour orientation to learn about San Francisco homebuyer programs offered by the Mayor’s Office of Housing and Community Development (MOHCD) and decide if you want to move forward with the remaining homebuyer education. The orientation provides an overview of affordable city programs\, including eligibility requirements\, down payment assistance\, the application process\, lottery preferences\, and more! \n  \nHow to Join: Zoom Webinar \nRegistration Link: https://asian-inc.zoom.us/webinar/register/WN_JnifantESkWzJpYGEucXBA \n  \nFor any question\, please send an email to housing.counseling@asianinc.org. \n  \nTopics \n\nBenefits & Responsibilities of Homeownership\nMOHCD Homebuyer Programs\nBelow Market Rate Homes\nDown Payment Assistance\n\nLanguage \nThis orientation is conducted in English.
URL:https://www.asianinc.org/event/mohcd-homebuyer-program-orientation-online-english/
CATEGORIES:Housing
END:VEVENT
BEGIN:VEVENT
DTSTART;TZID=UTC:20251101T130000
DTEND;TZID=UTC:20251101T150000
DTSTAMP:20260420T042749
CREATED:20251024T184049Z
LAST-MODIFIED:20251024T190258Z
UID:7076-1762002000-1762009200@www.asianinc.org
SUMMARY:Post-Purchase Workshop : Home Maintenance (Online-Cantonese) 購屋後講座: 家居維護 (綫上-粵語)
DESCRIPTION:The workshop offers guidance to new homeowners on various aspects of homeownership\, including financial planning\, home maintenance\, Homeowners Associations(HOAs)\, and emergency preparedness. It emphasizes the importance of budgeting\, understanding HOA responsibilities and governance\, conducting home repairs and improvements\, and keeping records for effective maintenance and financial stability. \n該講座為新屋主提供了關於房屋所有權的各種方面的指導，包括財務規劃、家居維護、房屋業主委員會（HOA）和緊急應對等。强調了預算編制的重要性，理解HOA的責任和管理，進行家居維護和改善，以及保留記錄以實現有效的維護和財務穩定性。
URL:https://www.asianinc.org/event/post-purchase-workshop-home-maintenance-online-cantonese-%e8%b3%bc%e5%b1%8b%e5%be%8c%e8%ac%9b%e5%ba%a7-%e5%ae%b6%e5%b1%85%e7%b6%ad%e8%ad%b7-%e7%b6%ab%e4%b8%8a-%e7%b2%b5%e8%aa%9e/
CATEGORIES:Housing
END:VEVENT
END:VCALENDAR