BEGIN:VCALENDAR
VERSION:2.0
PRODID:-//ASIAN, Inc. | Non-profit - ECPv6.15.17.1//NONSGML v1.0//EN
CALSCALE:GREGORIAN
METHOD:PUBLISH
X-WR-CALNAME:ASIAN, Inc. | Non-profit
X-ORIGINAL-URL:https://www.asianinc.org
X-WR-CALDESC:Events for ASIAN, Inc. | Non-profit
REFRESH-INTERVAL;VALUE=DURATION:PT1H
X-Robots-Tag:noindex
X-PUBLISHED-TTL:PT1H
BEGIN:VTIMEZONE
TZID:UTC
BEGIN:STANDARD
TZOFFSETFROM:+0000
TZOFFSETTO:+0000
TZNAME:UTC
DTSTART:20250101T000000
END:STANDARD
END:VTIMEZONE
BEGIN:VEVENT
DTSTART;VALUE=DATE:20260122
DTEND;VALUE=DATE:20260312
DTSTAMP:20260419T235805
CREATED:20260122T012613Z
LAST-MODIFIED:20260122T012613Z
UID:7657-1769040000-1773273599@www.asianinc.org
SUMMARY:Bay Windows Lantern Exhibition
DESCRIPTION:Bay Windows Lantern Exhibition on view until March 11\, 2026! \nBay Windows: Illuminating Immigrant Women’s Perspectives\, a decentralized exhibition of 15 sculptural lanterns. Each lantern is based on a paper cut designed in collaboration with one of 15 working class\, immigrant\, Chinese or Latina women. The artworks explore intersectional lived experiences of issues such as immigrants’ rights\, workers’ rights\, the high cost of living\, affordable housing\, public safety\, and mental health\, plus how the women confront these structural challenges. \nBay Windows is supported by a 2025 Creative Capital Award\, Zellerbach Family Foundation’s Community Arts program\, Southern Exposure’s Alternative Exposure Grant\, Community Engagement’s Artists & Creatives Grant\, A Blade of Grass’ Field Funds\, and ASIAN\, Inc. \nLead Artist: Christine Wong Yap \nContributing Designers: AiLan Xie 謝愛蘭\, Cammi Xingyu Huang 黃幸瑜\, ChunMei Cao 曹春梅\, DanLi Xu 許丹麗\, Lidia “Lupita” Iraheta\, Marcela Escamilla\, Mayra Alfaro\, MiaoFen Guan 關妙芬\, Nadia Rodriguez\, Selina Luo 羅玉蓮\, Tomasa Ramirez\, YongYu “Ah Yu” Lei 雷泳瑜\, YongYu “Yoyo” Situ 司徒咏瑜\, YuJuan “Ah Juan” Chen 陳玉娟\, Yurisma Gonzalez. \nProject Coordinators: Stephan Xie\, Lee Oscar Gomez. \nInterpreters/Translators: Andreína Maldonado\, Weikun Tang\, Lauren Huang\, Katie Beas. \nGuest artists: Beatriz Vasquez\, Xiaoqing Shi.
URL:https://www.asianinc.org/event/bay-windows-lantern-exhibition/
LOCATION:San Francisco\, San Francisco\, CA\, United States
CATEGORIES:Advocacy
ATTACH;FMTTYPE=image/jpeg:https://www.asianinc.org/wp-content/uploads/2026/01/BayWin-Lanterns-CCC-A1-InstallInt-PhotoRichLomibao-1_051-1818x1234-jpg.jpg
END:VEVENT
BEGIN:VEVENT
DTSTART;TZID=UTC:20260130T180000
DTEND;TZID=UTC:20260130T200000
DTSTAMP:20260419T235805
CREATED:20260126T233453Z
LAST-MODIFIED:20260126T233453Z
UID:7672-1769796000-1769803200@www.asianinc.org
SUMMARY:Sunset Night Market Community Meeting
DESCRIPTION:Sunset Night Market Community Meeting 日落夜市社區會議 \n\nThe Sunset Night Market Collaborative is hosting a community meeting on Friday\, January 30th at 6 p.m. to share feedback about the Sunset Night Market held at Wah Mei. Please join us to share your thoughts and help shape future events. We’d love to hear from you! \n\n日落夜市協作團隊（Sunset Night Market Collaborative）將舉辦一場社區座談會，邀請大家分享在華美舉辦的日落夜市活動回饋。誠摯邀請您一同參與，分享您的想法，協助我們共同規劃與打造未來的活動。我們非常期待聽到您的寶貴意見！\n會議資訊:1 月30 號，星期五。 晚上6 點
URL:https://www.asianinc.org/event/sunset-night-market-community-meeting/
LOCATION:Wah Mei School\, 1400 Judah Street\, San Francsico\, CA\, 94122\, United States
CATEGORIES:Advocacy,Business,Community
ATTACH;FMTTYPE=image/png:https://www.asianinc.org/wp-content/uploads/2026/01/1.30.2026-SNM-Community-Meeting-png.png
ORGANIZER;CN="Sunset Mercantile%2C Wah Mei%2C Into the Streets%2C ASIAN%2C Inc.":MAILTO:sunsetnightmarket@gmail.com
END:VEVENT
END:VCALENDAR