BEGIN:VCALENDAR
VERSION:2.0
PRODID:-//ASIAN, Inc. | Non-profit - ECPv6.15.17.1//NONSGML v1.0//EN
CALSCALE:GREGORIAN
METHOD:PUBLISH
X-ORIGINAL-URL:https://www.asianinc.org
X-WR-CALDESC:Events for ASIAN, Inc. | Non-profit
REFRESH-INTERVAL;VALUE=DURATION:PT1H
X-Robots-Tag:noindex
X-PUBLISHED-TTL:PT1H
BEGIN:VTIMEZONE
TZID:UTC
BEGIN:STANDARD
TZOFFSETFROM:+0000
TZOFFSETTO:+0000
TZNAME:UTC
DTSTART:20250101T000000
END:STANDARD
END:VTIMEZONE
BEGIN:VEVENT
DTSTART;VALUE=DATE:20260122
DTEND;VALUE=DATE:20260312
DTSTAMP:20260419T235945
CREATED:20260122T012613Z
LAST-MODIFIED:20260122T012613Z
UID:7657-1769040000-1773273599@www.asianinc.org
SUMMARY:Bay Windows Lantern Exhibition
DESCRIPTION:Bay Windows Lantern Exhibition on view until March 11\, 2026! \nBay Windows: Illuminating Immigrant Women’s Perspectives\, a decentralized exhibition of 15 sculptural lanterns. Each lantern is based on a paper cut designed in collaboration with one of 15 working class\, immigrant\, Chinese or Latina women. The artworks explore intersectional lived experiences of issues such as immigrants’ rights\, workers’ rights\, the high cost of living\, affordable housing\, public safety\, and mental health\, plus how the women confront these structural challenges. \nBay Windows is supported by a 2025 Creative Capital Award\, Zellerbach Family Foundation’s Community Arts program\, Southern Exposure’s Alternative Exposure Grant\, Community Engagement’s Artists & Creatives Grant\, A Blade of Grass’ Field Funds\, and ASIAN\, Inc. \nLead Artist: Christine Wong Yap \nContributing Designers: AiLan Xie 謝愛蘭\, Cammi Xingyu Huang 黃幸瑜\, ChunMei Cao 曹春梅\, DanLi Xu 許丹麗\, Lidia “Lupita” Iraheta\, Marcela Escamilla\, Mayra Alfaro\, MiaoFen Guan 關妙芬\, Nadia Rodriguez\, Selina Luo 羅玉蓮\, Tomasa Ramirez\, YongYu “Ah Yu” Lei 雷泳瑜\, YongYu “Yoyo” Situ 司徒咏瑜\, YuJuan “Ah Juan” Chen 陳玉娟\, Yurisma Gonzalez. \nProject Coordinators: Stephan Xie\, Lee Oscar Gomez. \nInterpreters/Translators: Andreína Maldonado\, Weikun Tang\, Lauren Huang\, Katie Beas. \nGuest artists: Beatriz Vasquez\, Xiaoqing Shi.
URL:https://www.asianinc.org/event/bay-windows-lantern-exhibition/
LOCATION:San Francisco\, San Francisco\, CA\, United States
CATEGORIES:Advocacy
ATTACH;FMTTYPE=image/jpeg:https://www.asianinc.org/wp-content/uploads/2026/01/BayWin-Lanterns-CCC-A1-InstallInt-PhotoRichLomibao-1_051-1818x1234-jpg.jpg
END:VEVENT
BEGIN:VEVENT
DTSTART;TZID=UTC:20260207T100000
DTEND;TZID=UTC:20260207T120000
DTSTAMP:20260419T235945
CREATED:20251121T214207Z
LAST-MODIFIED:20260114T230821Z
UID:7170-1770458400-1770465600@www.asianinc.org
SUMMARY:2/7/2026 MOHCD Homebuyer Program Orientation (Cantonese | Online) 2026年2月7號三藩市政府購屋計劃網上介紹會 (粵語 | 綫上講座)
DESCRIPTION:講座簡介: \n歡迎參加免費MOHCD三藩市政府購屋計劃介紹會。通過參加此介紹會您可以了解三藩市各項購屋援助計劃的要求和申請流程，從而評估自己的申請資格。  \n講座內容: \n\n舊金山有哪些購屋者計劃，包括：市價以下單位（BMR）、購屋貸款首期資助計劃（DALP）、房貸稅收減免計劃（MCC）等\n計劃要求與資格條件:\n\n\n收入計算\n資產審核\n貸款條件\n抽籤優先順序\n申請流程\n\n本次活動免費。 \n請注意：每位參與者必須單獨註冊。
URL:https://www.asianinc.org/event/2-7-2026-mohcd-homebuyer-program-orientation-online-cantonese/
LOCATION:Zoom Webinar (Online)
CATEGORIES:Housing
ATTACH;FMTTYPE=image/png:https://www.asianinc.org/wp-content/uploads/2025/11/Housing-MOHCD-Orientation-png.png
END:VEVENT
BEGIN:VEVENT
DTSTART;TZID=UTC:20260207T130000
DTEND;TZID=UTC:20260207T150000
DTSTAMP:20260419T235945
CREATED:20260114T232225Z
LAST-MODIFIED:20260114T232501Z
UID:7369-1770469200-1770476400@www.asianinc.org
SUMMARY:2/7/2026 Rental Readiness Workshop (Cantonese | Online) 2026年2月7號免費租房準備與可負擔租賃資訊講座 （粵語 | 線上講座）
DESCRIPTION:The Rental Readiness Workshop helps renters navigate the housing market by teaching financial management\, credit-building strategies\, and key housing programs. Participants learn to use the DAHLIA Housing Portal and understand the application and lottery process. The workshop also provides housing assistance resources to support renters in securing stable\, affordable housing. \n租房準備與可負擔租賃資訊講座旨在幫助租屋者更了解房屋市場，課程內容包括財務管理、信用建設策略以及重要的可負擔資訊介紹。參與者將學習如何使用 DAHLIA 住房網站，並了解申請和抽籤流程。講座也將提供租赁援助資源，幫助租屋者獲得穩定且負擔得起的租房單位。 \n  \nTopic (講座内容)： \n\nFinancial Management 財務管理\nEstablishing Good Credit 建立良好信用記錄\nUnderstanding the Housing Landscape 了解房屋市場概況\nSan Francisco Housing Programs 舊金山住房項目\nDAHLIA 舊金山住房資訊平台\n Application and Lottery Process 申請和抽籤流程\nHousing Assistance and Resources 住房援助和資源\n\n  \nThis event is free. \nPLEASE NOTE: Each participant must register individually. \n本次活動免費。 \n請注意：每位參與者必須單獨註冊。
URL:https://www.asianinc.org/event/2-7-2026-rental-workshop-cantonese-online-2026%e5%b9%b42%e6%9c%887%e8%99%9f%e5%85%8d%e8%b2%bb%e7%a7%9f%e6%88%bf%e6%ba%96%e5%82%99%e8%88%87%e5%8f%af%e8%b2%a0%e6%93%94%e7%a7%9f%e8%b3%83%e8%b3%87/
LOCATION:Zoom Webinar (Online)
CATEGORIES:Housing
ATTACH;FMTTYPE=image/png:https://www.asianinc.org/wp-content/uploads/2025/12/Rental-Readiness-Workshop-png.png
END:VEVENT
END:VCALENDAR