BEGIN:VCALENDAR
VERSION:2.0
PRODID:-//ASIAN, Inc. | Non-profit - ECPv6.15.17.1//NONSGML v1.0//EN
CALSCALE:GREGORIAN
METHOD:PUBLISH
X-ORIGINAL-URL:https://www.asianinc.org
X-WR-CALDESC:Events for ASIAN, Inc. | Non-profit
REFRESH-INTERVAL;VALUE=DURATION:PT1H
X-Robots-Tag:noindex
X-PUBLISHED-TTL:PT1H
BEGIN:VTIMEZONE
TZID:UTC
BEGIN:STANDARD
TZOFFSETFROM:+0000
TZOFFSETTO:+0000
TZNAME:UTC
DTSTART:20250101T000000
END:STANDARD
END:VTIMEZONE
BEGIN:VEVENT
DTSTART;TZID=UTC:20260418T100000
DTEND;TZID=UTC:20260418T140000
DTSTAMP:20260422T170420
CREATED:20260401T060516Z
LAST-MODIFIED:20260401T060516Z
UID:7799-1776506400-1776520800@www.asianinc.org
SUMMARY:Westside Affordable Housing Resource Fair
DESCRIPTION: Find Your Path to Affordable Housing All in One Place \n San Francisco County Fair Building @ 1199 9th Ave\nSaturday\, April 18\, 2026 from 10 AM – 2 PM \nJoin us on Saturday\, April 18th for the San Francisco Westside Affordable Housing Resource Fair a free\, one-stop event connecting you to the resources you need to secure and sustain housing. Whether you’re searching for housing\, navigating applications\, or looking for community resources — this event is for you. \nExplore support from 20+ government agencies and community partners offering:\n~ Affordable housing opportunities\n~ BMR & DAHLIA application guidance\n~ Tenant & landlord rights support\n~ Financial counseling & workshops\n~ Programs for youth\, families\, and seniors \n Giveaways & raffles available! \nRSVP: https://forms.office.com/Pages/ResponsePage.aspx?id=IlWVZD6MMUy9geGoakTwRCq0Mg7fjhdLssJ6GhlR7zNUOVZOTklRS0JCN0hQOFZPSjVNTklNU0cyVCQlQCN0PWcu&origin=QRCode \n\nWhen registering\, be sure to select ASIAN\, Inc. under: the question “How did you hear about this Housing Fair?” → Community Organizations → “ASIAN\, Inc.”
URL:https://www.asianinc.org/event/westside-affordable-housing-resource-fair/
LOCATION:San Francisco County Fair Building\, 1199 9th Ave\, San Francisco\, CA\, 94122\, United States
CATEGORIES:Housing
ATTACH;FMTTYPE=image/png:https://www.asianinc.org/wp-content/uploads/2026/04/4.18.2026-Westside-Affordable-Housing-Resource-Fair-png.png
END:VEVENT
END:VCALENDAR