BEGIN:VCALENDAR
VERSION:2.0
PRODID:-//ASIAN, Inc. | Non-profit - ECPv6.15.17.1//NONSGML v1.0//EN
CALSCALE:GREGORIAN
METHOD:PUBLISH
X-ORIGINAL-URL:https://www.asianinc.org
X-WR-CALDESC:Events for ASIAN, Inc. | Non-profit
REFRESH-INTERVAL;VALUE=DURATION:PT1H
X-Robots-Tag:noindex
X-PUBLISHED-TTL:PT1H
BEGIN:VTIMEZONE
TZID:UTC
BEGIN:STANDARD
TZOFFSETFROM:+0000
TZOFFSETTO:+0000
TZNAME:UTC
DTSTART:20250101T000000
END:STANDARD
END:VTIMEZONE
BEGIN:VEVENT
DTSTART;TZID=UTC:20260426T100000
DTEND;TZID=UTC:20260426T120000
DTSTAMP:20260422T134710
CREATED:20260413T182556Z
LAST-MODIFIED:20260413T183244Z
UID:7864-1777197600-1777204800@www.asianinc.org
SUMMARY:4-26-2026 Workshop: Steps to Homeownership & Inheritance Planning (English | In Person) 2026年4月26號講座：邁向購屋之路與房產繼承規劃（英文 | 現場）
DESCRIPTION:Date & Time: 4-26-2026\, 10:00 AM – 12:00 PM \n日期與時間：2026年4月26號，上午10點至中午12點 \nWorkshop Address: 1801 E Edinger Ave\, Suite 210\, Santa Ana\, CA 92705 \n講座地址：1801 E Edinger Ave\, Suite 210\, Santa Ana\, CA92705 \nLanguage： English (with Chinese Interpretation) \n語言: 英文（附中文口譯） \n  \nThis workshop is to guide you through the homeownership journey—from improving your credit and saving for a down payment to understanding mortgage qualification and navigating the homebuying process with confidence. We also provide information and strategies to support your inheritance planning and help you prepare for a smooth transfer of your home to the next generation. \n我們舉辦此講座，旨在引導您完成購屋歷程——從提升信用、儲蓄首付款，到了解房貸資格並自信地掌握整個購屋流程。我們同時提供房產繼承規劃的相關資訊與策略，協助您做好準備，讓房產能順利傳承給下一代。 \n  \nWorkshop Topics 講座內容 ： \n\nBuilding a Strong Financial Foundation建立穩固的財務基礎\nPreparing for Mortgage Qualification準備房貸資格審核\nNavigating the Homebuying Process掌握購屋流程\nGovernment Housing Assistance Programs 政府住房計畫\nBasics of Inheritance Planning房產繼承規劃\n\n  \nThis event is free. \nPLEASE NOTE: Each participant must register individually. \n本次活動免費。 \n請注意：每位參與者必須單獨註冊。
URL:https://www.asianinc.org/event/04262026workshop/
LOCATION:Santa Ana\, 1801 E Edinger Ave\, Suite 210\, Santa Ana\, CA\, 92705
CATEGORIES:Housing
ATTACH;FMTTYPE=image/png:https://www.asianinc.org/wp-content/uploads/2026/04/4-26-2026-Santa-Ana-Workshop-Website-feature-pic-png.png
END:VEVENT
END:VCALENDAR