BEGIN:VCALENDAR
VERSION:2.0
PRODID:-//ASIAN, Inc. | Non-profit - ECPv6.15.17.1//NONSGML v1.0//EN
CALSCALE:GREGORIAN
METHOD:PUBLISH
X-ORIGINAL-URL:https://www.asianinc.org
X-WR-CALDESC:Events for ASIAN, Inc. | Non-profit
REFRESH-INTERVAL;VALUE=DURATION:PT1H
X-Robots-Tag:noindex
X-PUBLISHED-TTL:PT1H
BEGIN:VTIMEZONE
TZID:UTC
BEGIN:STANDARD
TZOFFSETFROM:+0000
TZOFFSETTO:+0000
TZNAME:UTC
DTSTART:20250101T000000
END:STANDARD
END:VTIMEZONE
BEGIN:VEVENT
DTSTART;TZID=UTC:20260430T173000
DTEND;TZID=UTC:20260430T193000
DTSTAMP:20260420T031542
CREATED:20260324T070823Z
LAST-MODIFIED:20260324T070901Z
UID:7765-1777570200-1777577400@www.asianinc.org
SUMMARY:AAPI Empower Hour: Stronger Together The Power of Partnership
DESCRIPTION: Stronger Together: The Power of Partnership on Thursday\, April 30th! \nThe future of our community isn’t built alone\, it’s built together. \nAAPI Empower Hour brings together passionate individuals and AAPI nonprofits for an evening of connection\, purpose\, and impact. Whether you’re looking to volunteer\, join a board\, or simply learn more\, this is your chance to engage with organizations driving real change. \nThis month\, we’re highlighting the powerful partnership between Wah Mei and ASIAN\, Inc. collaborating across early childhood education\, youth and community development\, housing\, and small business support. Our work is a testament to what’s possible when we pool resources\, amplify voices\, and build collectively. Together we’ve worked on projects like the Sunset Night Market and a larger collaborate in establishing and running the Sunset Chinese Cultural District (SCCD). \n$10 admission includes light bites\nPlus\, 10% of all drink proceeds will directly support Wah Mei and ASIAN\, Inc. \nCome for the connections\, stay for the impact. See you in April!
URL:https://www.asianinc.org/event/aapi-empower-hour-stronger-together-the-power-of-partnership/
LOCATION:Restaurant Anzu @ Hotel Nikko\, 222 Mason St\, San Francisco\, CA\, 94102\, United States
CATEGORIES:Community
ATTACH;FMTTYPE=image/png:https://www.asianinc.org/wp-content/uploads/2026/03/4.30.2026-AAPI-Empower-Hour-png.png
END:VEVENT
BEGIN:VEVENT
DTSTART;TZID=UTC:20260502T100000
DTEND;TZID=UTC:20260502T120000
DTSTAMP:20260420T031542
CREATED:20260415T231556Z
LAST-MODIFIED:20260415T231556Z
UID:7208-1777716000-1777723200@www.asianinc.org
SUMMARY:5/2/2026 MOHCD Orientation (Mandarin | In Person) 2026年5月2號三藩市政府購屋計劃介紹會（國語 | 現場講座）
DESCRIPTION:講座簡介: \n歡迎參加免費MOHCD三藩市政府購屋計劃介紹會。通過參加此介紹會您可以了解三藩市各項購屋援助計劃的要求和申請流程，從而評估自己的申請資格。  \n講座內容: \n\n舊金山有哪些購屋者計劃，包括：市價以下單位（BMR）、購屋貸款首期資助計劃（DALP）、房貸稅收減免計劃（MCC）等\n計劃要求與資格條件:\n\n\n收入計算\n資產審核\n貸款條件\n抽籤優先順序\n申請流程\n\n本次活動免費。 \n請注意：每位參與者必須單獨註冊。
URL:https://www.asianinc.org/event/5-2-2026-mohcd-orientation-mandarin-in-person/
LOCATION:ASIAN\, Inc.\, 1167 Mission St\, San Francisco\, 94103\, United States
CATEGORIES:Housing
ATTACH;FMTTYPE=image/png:https://www.asianinc.org/wp-content/uploads/2025/11/Housing-MOHCD-Orientation-png.png
END:VEVENT
BEGIN:VEVENT
DTSTART;TZID=UTC:20260502T120000
DTEND;TZID=UTC:20260502T140000
DTSTAMP:20260420T031542
CREATED:20260415T231834Z
LAST-MODIFIED:20260415T231834Z
UID:7374-1777723200-1777730400@www.asianinc.org
SUMMARY:5/2/2026 Rental Workshop (Mandarin | In Person)  2026年5月2號租房準備與可負擔租賃資訊講座 (國語 | 現場講座）
DESCRIPTION:The Rental Readiness Workshop helps renters navigate the housing market by teaching financial management\, credit-building strategies\, and key housing programs. Participants learn to use the DAHLIA Housing Portal and understand the application and lottery process. The workshop also provides housing assistance resources to support renters in securing stable\, affordable housing. \n租房準備與可負擔租賃資訊講座旨在幫助租屋者更了解房屋市場，課程內容包括財務管理、信用建設策略以及重要的可負擔資訊介紹。參與者將學習如何使用 DAHLIA 住房網站，並了解申請和抽籤流程。講座也將提供租赁援助資源，幫助租屋者獲得穩定且負擔得起的租房單位。 \n  \nTopic (講座内容)： \n\nFinancial Management 財務管理\nEstablishing Good Credit 建立良好信用記錄\nUnderstanding the Housing Landscape 了解房屋市場概況\nSan Francisco Housing Programs 舊金山住房項目\nDAHLIA 舊金山住房資訊平台\n Application and Lottery Process 申請和抽籤流程\nHousing Assistance and Resources 住房援助和資源\n\n  \nThis event is free. \nPLEASE NOTE: Each participant must register individually. \n本次活動免費。 \n請注意：每位參與者必須單獨註冊。
URL:https://www.asianinc.org/event/5-2-2026-rental-workshop-mandarin-in-person-2026%e5%b9%b45%e6%9c%882%e8%99%9f%e7%a7%9f%e6%88%bf%e6%ba%96%e5%82%99%e8%88%87%e5%8f%af%e8%b2%a0%e6%93%94%e7%a7%9f%e8%b3%83%e8%b3%87%e8%a8%8a%e8%ac%9b/
LOCATION:ASIAN\, Inc.\, 1167 Mission St\, San Francisco\, 94103\, United States
CATEGORIES:Housing
ATTACH;FMTTYPE=image/png:https://www.asianinc.org/wp-content/uploads/2025/12/Rental-Readiness-Workshop-png.png
END:VEVENT
BEGIN:VEVENT
DTSTART;TZID=UTC:20260507T173000
DTEND;TZID=UTC:20260507T203000
DTSTAMP:20260420T031542
CREATED:20260325T062458Z
LAST-MODIFIED:20260328T204246Z
UID:7781-1778175000-1778185800@www.asianinc.org
SUMMARY:Rooted & Rising: AAPI Heritage\, Entrepreneurship\, & Mental Health
DESCRIPTION:Come celebrate AAPI heritage\, entrepreneurship\, and mental health at Rooted & Rising! \n\n\n\n\nWelcome to Rooted & Rising: AAPI Heritage\, Entrepreneurship\, & Mental Health! Join us for an engaging event at the INSEAD San Francisco Hub for Business Innovation. \nAt the intersection of entrepreneurship\, mental health\, and community empowerment as we honor Asian American and Pacific Islander (AAPI) Heritage Month\, Mental Health Awareness Month\, and National Small Business Month. \nThis event brings together a dynamic group of AAPI leaders\, entrepreneurs\, mental health professionals\, and community advocates to share their journeys\, challenges\, and solutions for thriving in business while prioritizing mental health. Through candid conversations\, networking\, and resource sharing\, we aim to spotlight the importance of wellness in the entrepreneurial space and build solidarity within our community. We will also feature five local AAPI-owned small businesses\, offering attendees a chance to support\, shop\, and connect with inspiring vendors who are making an impact in our neighborhoods. \nThis event is presented by ASIAN\, Inc.\, Asian Leaders Alliance\, INSEAD San Francisco\, and Asian Hustle Network.
URL:https://www.asianinc.org/event/rooted-rising-aapi-heritage-entrepreneurship-mental-health/
LOCATION:INSEAD SF Hub\, 224 Townsend St\, San Francisco\, CA\, 94107\, United States
CATEGORIES:Advocacy,Community
ATTACH;FMTTYPE=image/png:https://www.asianinc.org/wp-content/uploads/2026/03/May-2026-RR-AAPI-event-Eventbrite-2160-x-1080-px-1-png.png
END:VEVENT
BEGIN:VEVENT
DTSTART;TZID=UTC:20260517T100000
DTEND;TZID=UTC:20260517T170000
DTSTAMP:20260420T031542
CREATED:20260415T232208Z
LAST-MODIFIED:20260415T232208Z
UID:7210-1779012000-1779037200@www.asianinc.org
SUMMARY:5/17/2026 FIRST-TIME HOMEBUYER EDUCATION & CERTIFICATION WORKSHOP (Mandarin | In Person) 2026年5月17號 首次購屋者教育及證書班（國語 | 現場講座）
DESCRIPTION:講座簡介: \n通過參加首次購屋者教育及證書班，您可以了解房屋貸款的基本要求以及如何提高信用和財務管理的能力。此外，您還可以學習購房的步驟，包括如何選房、報價和成交房子，讓你在購買房子之前做好更充分的準備！ \n講座内容: \n\n信用和財務管理的重要性\n房屋貸款的資格和要求\n房地產的知識\n購買房屋的步驟流程\n\n講座細節: \n講座分為兩個部分，中間有一個小時的休息時間。 您必須兩個部分都參加。  \n第一部分: 上午10點至下午1點 \n第二部分: 下午2點至下午5點 \n本次活動免費。 \n請注意：每位參與者必須單獨註冊。
URL:https://www.asianinc.org/event/5-17-2026-first-time-homebuyer-education-certification-workshop-mandarin-in-person/
LOCATION:ASIAN\, Inc.\, 1167 Mission St\, San Francisco\, 94103\, United States
CATEGORIES:Housing
ATTACH;FMTTYPE=image/png:https://www.asianinc.org/wp-content/uploads/2025/11/Housing-First-Time-Homebuyer-Education-Certification-Workshop-png.png
END:VEVENT
BEGIN:VEVENT
DTSTART;TZID=UTC:20260529T180000
DTEND;TZID=UTC:20260529T213000
DTSTAMP:20260420T031543
CREATED:20260401T064221Z
LAST-MODIFIED:20260401T064221Z
UID:7835-1780077600-1780090200@www.asianinc.org
SUMMARY:Laugh for Lives
DESCRIPTION:Laugh for Lives brings comedy and community together for a high-energy night of laughter\, connection\, and purpose\, featuring a lineup of talented comedians delivering bold\, entertaining performances. \nMore than just a comedy show\, the event supports the impactful work of ASIAN\, Inc. and AADP (Asian American Donor Program)\, with proceeds helping advance equity\, health\, and access to life-saving resources in underserved communities. \nCome for the laughs\, stay for the purpose and leave knowing you’ve helped make a difference. \nLineup coming soon!
URL:https://www.asianinc.org/event/laugh-for-lives/
LOCATION:Marina Theatre\, 2149 Chestnut St\, San Francisco\, CA\, 94123\, United States
CATEGORIES:Community
ATTACH;FMTTYPE=image/png:https://www.asianinc.org/wp-content/uploads/2026/04/5.29.2026-Laugh-for-Lives-png.png
END:VEVENT
BEGIN:VEVENT
DTSTART;TZID=UTC:20260625T090000
DTEND;TZID=UTC:20260625T150000
DTSTAMP:20260420T031543
CREATED:20260328T204106Z
LAST-MODIFIED:20260419T005410Z
UID:7790-1782378000-1782399600@www.asianinc.org
SUMMARY:3rd Annual Central Valley Native Economic Summit
DESCRIPTION:
URL:https://www.asianinc.org/event/3rd-annual-central-valley-native-economic-summit/
LOCATION:Table Mountain Casino\, 777 Jackpot Ln\, Friant\, CA\, 93626\, United States
CATEGORIES:Business
ATTACH;FMTTYPE=image/png:https://www.asianinc.org/wp-content/uploads/2026/03/6182026-3rd-Annual-Central-Valley-Native-Economic-Summit-1-png.png
END:VEVENT
BEGIN:VEVENT
DTSTART;TZID=UTC:20261002T050000
DTEND;TZID=UTC:20261002T210000
DTSTAMP:20260420T031543
CREATED:20260126T233739Z
LAST-MODIFIED:20260127T001111Z
UID:7676-1790917200-1790974800@www.asianinc.org
SUMMARY:ASIAN\, Inc. Lion-Hearted 55th Anniversary Gala
DESCRIPTION:Thank you for standing with ASIAN\, Inc. Your partnership has helped entrepreneurs grow\, enabled dozens of low-income families to achieve homeownership\, and strengthened community safety across the neighborhoods we serve. \nThis year marks a major milestone\, our 55th anniversary. As we reflect on our legacy and look ahead\, we invite you to celebrate with us at our Emerald Anniversary Gala. \nSave the date: \nASIAN\, Inc.’s Lion–Hearted 55th Anniversary Gala\nFriday\, October 2\, 2026\nThe Ritz-Carlton\, San Francisco (600 Stockton Street) \nWe look forward to celebrating with you. More info at https://www.asianinc.org/gala/
URL:https://www.asianinc.org/event/asian-inc-lion-hearted-55th-anniversary-gala/
LOCATION:The Ritz-Carlton\, San Francisco\, 600 Stockton St\, San Francisco\, CA\, 94108\, United States
CATEGORIES:Community
ATTACH;FMTTYPE=image/png:https://www.asianinc.org/wp-content/uploads/2025/12/LION-HEARTED-png-scaled.png
END:VEVENT
END:VCALENDAR