BEGIN:VCALENDAR
VERSION:2.0
PRODID:-//ASIAN, Inc. | Non-profit - ECPv6.15.17.1//NONSGML v1.0//EN
CALSCALE:GREGORIAN
METHOD:PUBLISH
X-WR-CALNAME:ASIAN, Inc. | Non-profit
X-ORIGINAL-URL:https://www.asianinc.org
X-WR-CALDESC:Events for ASIAN, Inc. | Non-profit
REFRESH-INTERVAL;VALUE=DURATION:PT1H
X-Robots-Tag:noindex
X-PUBLISHED-TTL:PT1H
BEGIN:VTIMEZONE
TZID:America/Los_Angeles
BEGIN:DAYLIGHT
TZOFFSETFROM:-0800
TZOFFSETTO:-0700
TZNAME:PDT
DTSTART:20230312T100000
END:DAYLIGHT
BEGIN:STANDARD
TZOFFSETFROM:-0700
TZOFFSETTO:-0800
TZNAME:PST
DTSTART:20231105T090000
END:STANDARD
BEGIN:DAYLIGHT
TZOFFSETFROM:-0800
TZOFFSETTO:-0700
TZNAME:PDT
DTSTART:20240310T100000
END:DAYLIGHT
BEGIN:STANDARD
TZOFFSETFROM:-0700
TZOFFSETTO:-0800
TZNAME:PST
DTSTART:20241103T090000
END:STANDARD
BEGIN:DAYLIGHT
TZOFFSETFROM:-0800
TZOFFSETTO:-0700
TZNAME:PDT
DTSTART:20250309T100000
END:DAYLIGHT
BEGIN:STANDARD
TZOFFSETFROM:-0700
TZOFFSETTO:-0800
TZNAME:PST
DTSTART:20251102T090000
END:STANDARD
END:VTIMEZONE
BEGIN:VEVENT
DTSTART;TZID=America/Los_Angeles:20240930T173000
DTEND;TZID=America/Los_Angeles:20240930T190000
DTSTAMP:20260423T022319
CREATED:20241217T032419Z
LAST-MODIFIED:20250619T042207Z
UID:173-1727717400-1727722800@www.asianinc.org
SUMMARY:Hangout & Acoustic Set with Chanpan
DESCRIPTION:Come for an exciting evening of acoustic jams\, your favorite Asian snacks\, and discussion with NYC band Chanpan! Together with ASIAN\, Inc. and Save Cantonese\, Chanpan is stopping in SF as part of their Election Year US Tour to host a FREE open-door mixer. In addition to an acoustic set\, Grace Dumdaw\, Lance Tran\, and Matthew Tran will have a community audience discussion drawing from their backgrounds in TV & movie acting\, national politics\, community organizing\, and Asian American advocacy. \n  \nAbout Chanpan: \nChanpan is an Asian American band featuring Grace Dumdaw and identical twins Lance and Matthew Tran. Since their start busking the streets of Chinatown\, they’ve already been praised by Vogue as a “very cool New York band”\, covered in New York Times’ T Magazine\, and featured by Live Nation’s Ones to Watch. The trio’s individual accolades in politics\, community organizing\, and film & television have been featured by The New Yorker\, HBO\, Billboard\, CNN\, and more. Their music combines dance pop\, jazzy soul\, and energetic vibes\, earning them 540k+ streams on Spotify with singles like “Jungle” and “ooweeooweeoo.” \nChanpan is embarking on their first national US tour on their “Election Year” campaign\, critiquing the American political landscape through the single while stopping to promote grassroots community-building in each city. They will be playing the Great American Music Hall in San Francisco on October 1 with Japanese artist Haru Nemuri. \n  \nAbout Moderator Leianne Lamb: \nLeianne Wong Lamb\, a seasoned leader in high-tech marketing with roles at Apple\, Cisco\, and cybersecurity companies\, is the Executive Director of Contemporary Asian Theater Scene (CATS). As a third-generation Chinese American\, Leianne is passionate about advocating for AAPI representation in the arts. She produced programs promoting AAPI social justice\, and Asian American and African American solidarity\, and amplifies voices of AAPI activists and artists. Leianne is proud to have launched the “Realities of AAPI Artists” interview series to encourage young artists and their families to explore the challenges and rewards of an artistic career. During the pandemic\, she joined safety patrols in San Francisco’s Chinatown and spearheaded the effort in San Jose Japantown.
URL:https://www.asianinc.org/event/hangout-acoustic-set-with-chanpan/
LOCATION:SF Chinatown\, Chinese Culture Center\, 750 Kearny Street 3rd Floor\, San Francisco\, CA\, 94108\, United States
CATEGORIES:Advocacy
ATTACH;FMTTYPE=image/jpeg:https://www.asianinc.org/wp-content/uploads/2024/12/hang-out-jpg.jpg
END:VEVENT
BEGIN:VEVENT
DTSTART;TZID=America/Los_Angeles:20241002T180000
DTEND;TZID=America/Los_Angeles:20241002T200000
DTSTAMP:20260423T022319
CREATED:20250121T072001Z
LAST-MODIFIED:20250619T042201Z
UID:738-1727892000-1727899200@www.asianinc.org
SUMMARY:MOHCD Homebuyer Program Orienation (Online Cantonese)
DESCRIPTION:By attending a free 2-hour Homebuyer Program Orientation\, you can learn about the homebuyer programs offered by the San Francisco Mayor’s Office of Housing and Community Development (MOHCD) and decide whether to continue with the remaining first-time homebuyer education and certification courses. This orientation provides an overview of San Francisco’s affordable housing programs\, including eligibility requirements\, down payment assistance\, application process\, lottery priorities\, and more! \nFee: Free \nHow to Join: Online via Zoom (details will be provided upon registration) \nRegistration Link: https://us06web.zoom.us/webinar/register/WN_7zTnUB7dS-WBhiitbMmxYg \nQuestions: Please email housing.counseling@asianinc.org \nCourse Content Includes: \n\nBenefits and responsibilities of homeownership\nMOHCD Homebuyer Programs\nBelow-Market-Rate Housing Program\nLoan Assistance Programs\n\nStarting August 1\, 2019\, all first-time homebuyers are required to attend a 2-hour online San Francisco Government Homebuyer Program Orientation before completing the 6-hour first-time homebuyer education and certification course. \nNote: If you join the webinar more than 15 minutes after the start time\, you are welcome to attend the training\, but you will not receive credit and will need to attend again to fulfill the requirements for this training. \nEvery first-time homebuyer must complete the following three steps in order to obtain a certificate:\nhttps://sfmohcd.org/affordable-homebuyer-programs. \nStep 1: 2-hour MOHCD San Francisco Government Homebuyer Program Orientation \nStep 2: 6-hour First-Time Homebuyer Education Workshop \nStep 3: 2-hour Individual Counseling Session (scheduled with the agency providing the First-Time Homebuyer Education Workshop)
URL:https://www.asianinc.org/event/mohcd-homebuyer-program-orienation/
CATEGORIES:Housing
END:VEVENT
BEGIN:VEVENT
DTSTART;TZID=America/Los_Angeles:20241020T100000
DTEND;TZID=America/Los_Angeles:20241020T170000
DTSTAMP:20260423T022319
CREATED:20250121T071023Z
LAST-MODIFIED:20250619T042117Z
UID:736-1729418400-1729443600@www.asianinc.org
SUMMARY:First-Time Homebuyer Education & Certification Workshop (Online English Workshop)
DESCRIPTION:By attending the First-time Homebuyer Education & Certification Workshop\, you can learn about the basic requirements of mortgage and how to improve credit and financial management skills. In addition\, you can learn the steps to buy a house\, including shopping for a home\, making an offer and the closing period\, so that you can make better preparations before buying a house! \nHow to Join: Zoom Webinar ( the meeting details will be provided upon registration confirmation)\nRegistration Link: https://us06web.zoom.us/meeting/register/tZMpcOqgqDIoEtZjAyvdiBHVKknFCQPM043i \nWorkshop Topics: \n·       The importance of credit and saving\n·       Basic for mortgage qualification\n·       Housing selection\n·       Closing process\nHow to Get Education Completion Letter：\n1.Complete 2 hour MOHCD Homebuyer Orientation\n(Only for participation in the San Francisco Housing Assistance Program)\n2.Complete 6 hour First-Time Homebuyer Workshop\n3.Complete 2 hour Homebuyer Counseling Section
URL:https://www.asianinc.org/event/first-time-homebuyer-education-workshop/
CATEGORIES:Housing
END:VEVENT
END:VCALENDAR