BEGIN:VCALENDAR
VERSION:2.0
PRODID:-//ASIAN, Inc. | Non-profit - ECPv6.15.17.1//NONSGML v1.0//EN
CALSCALE:GREGORIAN
METHOD:PUBLISH
X-ORIGINAL-URL:https://www.asianinc.org
X-WR-CALDESC:Events for ASIAN, Inc. | Non-profit
REFRESH-INTERVAL;VALUE=DURATION:PT1H
X-Robots-Tag:noindex
X-PUBLISHED-TTL:PT1H
BEGIN:VTIMEZONE
TZID:UTC
BEGIN:STANDARD
TZOFFSETFROM:+0000
TZOFFSETTO:+0000
TZNAME:UTC
DTSTART:20240101T000000
END:STANDARD
END:VTIMEZONE
BEGIN:VEVENT
DTSTART;TZID=UTC:20251203T180000
DTEND;TZID=UTC:20251203T190000
DTSTAMP:20260420T013625
CREATED:20251113T062207Z
LAST-MODIFIED:20251113T062207Z
UID:7155-1764784800-1764788400@www.asianinc.org
SUMMARY:Draft Plan Bay Area 2050+ Is Here: Public Hearing #2 – Fremont
DESCRIPTION:View this information online in English\n在網上查看中文版詳情\nVer la información en línea en español \nAfter more than two years of public discussion\, technical analysis and refinement\, the Metropolitan Transportation Commission (MTC) and Association of Bay Area Governments (ABAG) have released Draft Plan Bay Area 2050+ for review and comment. The plan contains 35 strategies representing public policies and investments that can be implemented in the Bay Area by 2050 to help the region build more homes\, reduce commute times\, and create vibrant downtowns and natural areas for everyone to enjoy. The plan’s strategies also aim to keep people safe from natural hazards\, support a strong economy and provide stable housing for those who need it most.  \nUnique to this plan cycle is the parallel Transit 2050+ planning effort\, which has culminated in the first-of-its-kind plan to re-envision the future of Bay Area public transit\, in partnership with transit operators across the region. \nThe Draft Plan\, along with the Draft Implementation Plan and various supplemental reports\, are all available for review and comment. \nRead Draft Plan Bay Area 2050+ and the supplemental reports at planbayarea.org/draftplan and submit your comments by December 18. \nOpportunities to Participate\nPublic Hearings\n\nPublic Hearing #1 – MTC Planning Committee and ABAG Administrative Committee\nFriday\, November 14\, 2025\n9:40 a.m.\nBay Area Metro Center -or- Zoom\nBoardroom\, 1st Floor\n375 Beale Street\, San Francisco\n\nInstructions to join by Zoom \nNote: Meeting start time may vary. \n\nPublic Hearing #2 – Fremont \nWednesday\, December 3\, 2025\n6 p.m.\nOlive Hyde Art Center and Gallery -or- Zoom\n123 Washington Boulevard\, Fremont\nZoom link: https://bit.ly/drafthearing2\nWebinar ID: 875 7625 3306\nPasscode: 178983\n888 788 0099 US Toll Free\nPublic Hearing #3 – Novato \nThursday\, December 4\, 2025\n6 p.m.\nNovato Oaks Inn -or- Zoom\nBest Western Plus Novato Oaks Inn \n\n215 Alameda del Prado\, Novato\nZoom link: https://bit.ly/drafthearing3\nWebinar ID: 898 0347 9624\n888 788 0099 US Toll Free
URL:https://www.asianinc.org/event/draft-plan-bay-area-2050-is-here-public-hearing-2-fremont/
LOCATION:Olive Hyde Art Center\, 123 Washington Boulevard\, Fremont\, CA\, 94539\, United States
CATEGORIES:Housing
ATTACH;FMTTYPE=image/png:https://www.asianinc.org/wp-content/uploads/2025/10/PBA-2050-png.png
END:VEVENT
BEGIN:VEVENT
DTSTART;TZID=UTC:20251204T180000
DTEND;TZID=UTC:20251204T190000
DTSTAMP:20260420T013625
CREATED:20251113T062421Z
LAST-MODIFIED:20251113T062421Z
UID:7158-1764871200-1764874800@www.asianinc.org
SUMMARY:Draft Plan Bay Area 2050+ Is Here: Public Hearing #3 – Novato
DESCRIPTION:View this information online in English\n在網上查看中文版詳情\nVer la información en línea en español \nAfter more than two years of public discussion\, technical analysis and refinement\, the Metropolitan Transportation Commission (MTC) and Association of Bay Area Governments (ABAG) have released Draft Plan Bay Area 2050+ for review and comment. The plan contains 35 strategies representing public policies and investments that can be implemented in the Bay Area by 2050 to help the region build more homes\, reduce commute times\, and create vibrant downtowns and natural areas for everyone to enjoy. The plan’s strategies also aim to keep people safe from natural hazards\, support a strong economy and provide stable housing for those who need it most.  \nUnique to this plan cycle is the parallel Transit 2050+ planning effort\, which has culminated in the first-of-its-kind plan to re-envision the future of Bay Area public transit\, in partnership with transit operators across the region. \nThe Draft Plan\, along with the Draft Implementation Plan and various supplemental reports\, are all available for review and comment. \nRead Draft Plan Bay Area 2050+ and the supplemental reports at planbayarea.org/draftplan and submit your comments by December 18. \nOpportunities to Participate\nPublic Hearings\n\nPublic Hearing #1 – MTC Planning Committee and ABAG Administrative Committee\nFriday\, November 14\, 2025\n9:40 a.m.\nBay Area Metro Center -or- Zoom\nBoardroom\, 1st Floor\n375 Beale Street\, San Francisco\n\nInstructions to join by Zoom \nNote: Meeting start time may vary. \n\nPublic Hearing #2 – Fremont \nWednesday\, December 3\, 2025\n6 p.m.\nOlive Hyde Art Center and Gallery -or- Zoom\n123 Washington Boulevard\, Fremont\nZoom link: https://bit.ly/drafthearing2\nWebinar ID: 875 7625 3306\nPasscode: 178983\n888 788 0099 US Toll Free\nPublic Hearing #3 – Novato \nThursday\, December 4\, 2025\n6 p.m.\nNovato Oaks Inn -or- Zoom\nBest Western Plus Novato Oaks Inn \n\n215 Alameda del Prado\, Novato\nZoom link: https://bit.ly/drafthearing3\nWebinar ID: 898 0347 9624\n888 788 0099 US Toll Free
URL:https://www.asianinc.org/event/draft-plan-bay-area-2050-is-here-public-hearing-3-novato/
LOCATION:Novato Oaks Inn\, 215 Alameda del Prado\, Novato\, CA\, 94949\, United States
CATEGORIES:Housing
ATTACH;FMTTYPE=image/png:https://www.asianinc.org/wp-content/uploads/2025/10/PBA-2050-png.png
END:VEVENT
BEGIN:VEVENT
DTSTART;TZID=UTC:20251218T113000
DTEND;TZID=UTC:20251218T130000
DTSTAMP:20260420T013625
CREATED:20251215T072555Z
LAST-MODIFIED:20251215T072555Z
UID:7281-1766057400-1766062800@www.asianinc.org
SUMMARY:Lunch & Learn: Learn How You Can Own Real Estate With ASIAN\, Inc.
DESCRIPTION:Ever thought about owning a home or building long-term wealth—but felt unsure where to begin? Let’s demystify the process together. \nJoin us for a FREE Lunch & Learn with ASIAN\, Inc. and get your real estate questions answered—no sales pitch\, just practical information. \n📅 Thursday\, Dec 18 from 11:30 AM – 1:00 PM\n📍 ASIAN\, Inc.\, 1167 Mission St\, 4th Floor\n🍴 Free lunch included \nHear from Tony Tang\, Jessica Ho\, and a lending executive as they break down residential and commercial real estate\, lending basics\, and what’s possible for you. Ask anything. \n👉 RSVP by scanning the QR code or at https://forms.gle/5VCsPy6KXohLxvY7A\n🥐 Want lunch on us? Complete the lunch form by Wed\, 12/17 at 3 PM (supporting Gateway Croissants).
URL:https://www.asianinc.org/event/lunch-learn-learn-how-you-can-own-real-estate-with-asian-inc/
LOCATION:ASIAN\, Inc.\, 1167 Mission St\, San Francisco\, 94103\, United States
CATEGORIES:Business,Community,Housing
ATTACH;FMTTYPE=image/png:https://www.asianinc.org/wp-content/uploads/2025/12/12.18.2025-Lunch-Learn-Learn-How-You-Can-Own-Real-Estate-With-ASIAN-Inc.-png.png
END:VEVENT
END:VCALENDAR