BEGIN:VCALENDAR
VERSION:2.0
PRODID:-//ASIAN, Inc. | Non-profit - ECPv6.15.17.1//NONSGML v1.0//EN
CALSCALE:GREGORIAN
METHOD:PUBLISH
X-WR-CALNAME:ASIAN, Inc. | Non-profit
X-ORIGINAL-URL:https://www.asianinc.org
X-WR-CALDESC:Events for ASIAN, Inc. | Non-profit
REFRESH-INTERVAL;VALUE=DURATION:PT1H
X-Robots-Tag:noindex
X-PUBLISHED-TTL:PT1H
BEGIN:VTIMEZONE
TZID:UTC
BEGIN:STANDARD
TZOFFSETFROM:+0000
TZOFFSETTO:+0000
TZNAME:UTC
DTSTART:20250101T000000
END:STANDARD
END:VTIMEZONE
BEGIN:VEVENT
DTSTART;TZID=UTC:20260110T100000
DTEND;TZID=UTC:20260110T120000
DTSTAMP:20260419T235939
CREATED:20251024T182035Z
LAST-MODIFIED:20251231T184755Z
UID:7073-1768039200-1768046400@www.asianinc.org
SUMMARY:1/10/2026 MOHCD Orientation (Cantonese | In person) 2026年1月10號三藩市政府購屋計劃介紹會 (粵語 | 現場講座)
DESCRIPTION:講座簡介: \n\n歡迎參加免費MOHCD三藩市政府購屋計劃介紹會。通過參加此介紹會您可以了解三藩市各項購屋援助計劃的要求和申請流程，從而評估自己的申請資格。\n\n講座內容:\n\n\n舊金山有哪些購屋者計劃，包括：市價以下單位（BMR）、購屋貸款首期資助計劃（DALP）、房貸稅收減免計劃（MCC）等\n計劃要求與資格條件:\n\n\n收入計算\n資產審核\n貸款條件\n抽籤優先順序\n申請流程\n\n\n現場講座地址：1167 Mission St\, San Francisco\, CA 94103\n現場講座日期及時間：1/10/2026，上午10點到12點\n\n\n\n本次活動免費。 \n請注意：每位參與者必須單獨註冊。
URL:https://www.asianinc.org/event/1-10-2026-mohcd-orientation-cantonese-in-person/
LOCATION:ASIAN\, Inc.\, 1167 Mission St\, San Francisco\, 94103\, United States
CATEGORIES:Housing
ATTACH;FMTTYPE=image/png:https://www.asianinc.org/wp-content/uploads/2025/11/Housing-MOHCD-Orientation-png.png
END:VEVENT
BEGIN:VEVENT
DTSTART;TZID=UTC:20260110T130000
DTEND;TZID=UTC:20260110T150000
DTSTAMP:20260419T235939
CREATED:20251218T003350Z
LAST-MODIFIED:20251231T184721Z
UID:7306-1768050000-1768057200@www.asianinc.org
SUMMARY:1/10/2026 Rental Readiness Workshop (English | In person)
DESCRIPTION:The Rental Readiness Workshop helps renters navigate the housing market by teaching financial management\, credit-building strategies\, and key housing programs. Participants learn to use the DAHLIA Housing Portal and understand the application and lottery process. The workshop also provides housing assistance resources to support renters in securing stable\, affordable housing. \n  \nTopic： \n\nFinancial Management \nEstablishing Good Credit \nUnderstanding the Housing Landscape \nSan Francisco Housing Programs \nDAHLIA\nApplication and Lottery Process \nHousing Assistance and Resources\n\nThis event is free. \nPLEASE NOTE: Each participant must register individually.
URL:https://www.asianinc.org/event/1-10-2026-rental-workshop-english-in-person/
LOCATION:ASIAN\, Inc.\, 1167 Mission St\, San Francisco\, 94103\, United States
CATEGORIES:Housing
ATTACH;FMTTYPE=image/png:https://www.asianinc.org/wp-content/uploads/2025/12/Rental-Readiness-Workshop-png.png
END:VEVENT
BEGIN:VEVENT
DTSTART;VALUE=DATE:20260122
DTEND;VALUE=DATE:20260312
DTSTAMP:20260419T235939
CREATED:20260122T012613Z
LAST-MODIFIED:20260122T012613Z
UID:7657-1769040000-1773273599@www.asianinc.org
SUMMARY:Bay Windows Lantern Exhibition
DESCRIPTION:Bay Windows Lantern Exhibition on view until March 11\, 2026! \nBay Windows: Illuminating Immigrant Women’s Perspectives\, a decentralized exhibition of 15 sculptural lanterns. Each lantern is based on a paper cut designed in collaboration with one of 15 working class\, immigrant\, Chinese or Latina women. The artworks explore intersectional lived experiences of issues such as immigrants’ rights\, workers’ rights\, the high cost of living\, affordable housing\, public safety\, and mental health\, plus how the women confront these structural challenges. \nBay Windows is supported by a 2025 Creative Capital Award\, Zellerbach Family Foundation’s Community Arts program\, Southern Exposure’s Alternative Exposure Grant\, Community Engagement’s Artists & Creatives Grant\, A Blade of Grass’ Field Funds\, and ASIAN\, Inc. \nLead Artist: Christine Wong Yap \nContributing Designers: AiLan Xie 謝愛蘭\, Cammi Xingyu Huang 黃幸瑜\, ChunMei Cao 曹春梅\, DanLi Xu 許丹麗\, Lidia “Lupita” Iraheta\, Marcela Escamilla\, Mayra Alfaro\, MiaoFen Guan 關妙芬\, Nadia Rodriguez\, Selina Luo 羅玉蓮\, Tomasa Ramirez\, YongYu “Ah Yu” Lei 雷泳瑜\, YongYu “Yoyo” Situ 司徒咏瑜\, YuJuan “Ah Juan” Chen 陳玉娟\, Yurisma Gonzalez. \nProject Coordinators: Stephan Xie\, Lee Oscar Gomez. \nInterpreters/Translators: Andreína Maldonado\, Weikun Tang\, Lauren Huang\, Katie Beas. \nGuest artists: Beatriz Vasquez\, Xiaoqing Shi.
URL:https://www.asianinc.org/event/bay-windows-lantern-exhibition/
LOCATION:San Francisco\, San Francisco\, CA\, United States
CATEGORIES:Advocacy
ATTACH;FMTTYPE=image/jpeg:https://www.asianinc.org/wp-content/uploads/2026/01/BayWin-Lanterns-CCC-A1-InstallInt-PhotoRichLomibao-1_051-1818x1234-jpg.jpg
END:VEVENT
BEGIN:VEVENT
DTSTART;TZID=UTC:20260123T103000
DTEND;TZID=UTC:20260123T113000
DTSTAMP:20260419T235939
CREATED:20260107T223226Z
LAST-MODIFIED:20260107T225914Z
UID:7479-1769164200-1769167800@www.asianinc.org
SUMMARY:[Business Training] Essential Workplace Rights and Responsibilities for Small Businesses
DESCRIPTION:Date: Friday\, Jan 23rd | @10:30 AM (PST)\n1-hour training session. \n  \nThis new year\, recent updates to workplace protections have created new responsibilities for employers and expanded rights for workers. \nWe have prepared an in-depth workshop covering California’s most important workplace rights and responsibilities. Suitable for small business owners\, managers\, workers\, and advocates alike. Get a grasp on the ever-evolving system upholding the standards of fair\, safe\, and compliant workplaces in and beyond Santa Clara County. \n  \nWe are glad to feature Ruth Silver Taube as our guest speaker\, a true expert in this field. With extensive experience directly helping local communities in employment and labor issues\, she breaks down complex labor ordinances into simple key concepts and shows what it can mean for you and your workplace. \n  \nWe will walk you through: \n– Paid Sick Leave: who qualifies\, accrual\, usage rules\n– FMLA & CFRA: job-protected family and medical leave\n– Pregnancy Disability Leave: rights during pregnancy & return-to-work\n– Required Handouts: the mandatory SDI & PFL notices all employers must give\n– Overtime Rules: daily/weekly calculations\, exemptions\, common violations\n– and more! \n  \nWhether you’re an employee looking to learn your rights and stay protected in the face of trouble\, or a business owner seeking to stay compliant and avoid fees\, this session will give you practical guidance and equip you with tools you can use immediately. \n  \nEmpower those around you by sharing our registration link:\nwww.tinyurl.com/asian-inc-kyr \nContact hton@asianinc.org for support.
URL:https://www.asianinc.org/event/business-training-essential-workplace-rights-and-responsibilities-for-small-businesses/
LOCATION:Zoom Webinar (Online)
CATEGORIES:Business
ATTACH;FMTTYPE=image/png:https://www.asianinc.org/wp-content/uploads/2026/01/A-Guide-to-Compliance-for-Small-Businesses-png.png
END:VEVENT
BEGIN:VEVENT
DTSTART;TZID=UTC:20260124T110000
DTEND;TZID=UTC:20260124T140000
DTSTAMP:20260419T235939
CREATED:20260122T012833Z
LAST-MODIFIED:20260122T012833Z
UID:7665-1769252400-1769263200@www.asianinc.org
SUMMARY:Bay Windows Scavenger Hunt
DESCRIPTION:Saturday\, January 24\, 2026\, 11am-2pm\nFind 15 unique lanterns in Chinatown and the Mission District. Interact with the makers\, collect stamps\, and gather trivia for the chance to collect prizes. \nPrizes: \n\nSet of 15 Bay Windows postcards… One lucky set includes a bonus: $100 💵 cash!\nA pair of tickets 🎟🎟 to a candle-lit concert: Candlelight: Tribute to Juan Gabriel on Strings presented by Fever Presents at Brava Theater on Saturday\, February 21 ($150+ value)\nGift certificates for one drink 🧋 @ By Me Boba Tea\, $10 @ 📚 Medicine for Nightmares Books & Gallery\, $10 @ 🀄 Chinese Culture Center of SF Design Store\, or $10 @ La Espiga de Oro\n\nFun\, free\, and family-friendly!\n \nBay Windows is supported by a 2025 Creative Capital Award\, Zellerbach Family Foundation’s Community Arts program\, Southern Exposure’s Alternative Exposure Grant\, Community Engagement’s Artists & Creatives Grant\, A Blade of Grass’ Field Funds\, and ASIAN\, Inc. \nLead Artist: Christine Wong Yap \n 
URL:https://www.asianinc.org/event/bay-windows-scavenger-hunt/
LOCATION:San Francisco\, San Francisco\, CA\, United States
CATEGORIES:Advocacy,Community
ATTACH;FMTTYPE=image/jpeg:https://www.asianinc.org/wp-content/uploads/2026/01/BayWin-ScavHunt-header-ENSPCH-1204x790-jpg.jpg
END:VEVENT
BEGIN:VEVENT
DTSTART;TZID=UTC:20260125T100000
DTEND;TZID=UTC:20260125T170000
DTSTAMP:20260419T235939
CREATED:20251121T213727Z
LAST-MODIFIED:20251231T184632Z
UID:7168-1769335200-1769360400@www.asianinc.org
SUMMARY:1/25/2026 FIRST-TIME HOMEBUYER EDUCATION & CERTIFICATION WORKSHOP (Cantonese | In person) 2026年1月25號 首次購屋者教育及證書班 (粵語 | 現場講座)
DESCRIPTION:講座簡介: \n通過參加首次購屋者教育及證書班，您可以了解房屋貸款的基本要求以及如何提高信用和財務管理的能力。此外，您還可以學習購房的步驟，包括如何選房、報價和成交房子，讓你在購買房子之前做好更充分的準備！ \n講座内容: \n\n信用和財務管理的重要性\n房屋貸款的資格和要求\n房地產的知識\n購買房屋的步驟流程\n\n講座細節: \n講座分為兩個部分，中間有一個小時的休息時間。 您必須兩個部分都參加。  \n第一部分: 上午10點至下午1點 \n第二部分: 下午2點至下午5點 \n現場講座地址：1167 Mission St\, San Francisco\, CA 94103 \n現場講座日期及時間：1/25/2026，上午10點到下午5點 \n本次活動免費。 \n請注意：每位參與者必須單獨註冊。
URL:https://www.asianinc.org/event/1-25-2026-first-time-homebuyer-education-certification-workshop-cantonese-in-person/
LOCATION:ASIAN\, Inc.\, 1167 Mission St\, San Francisco\, 94103\, United States
CATEGORIES:Housing
ATTACH;FMTTYPE=image/png:https://www.asianinc.org/wp-content/uploads/2025/11/Housing-First-Time-Homebuyer-Education-Certification-Workshop-png.png
END:VEVENT
BEGIN:VEVENT
DTSTART;TZID=UTC:20260129T173000
DTEND;TZID=UTC:20260129T193000
DTSTAMP:20260419T235939
CREATED:20260110T232444Z
LAST-MODIFIED:20260122T010412Z
UID:7600-1769707800-1769715000@www.asianinc.org
SUMMARY:AAPI Empower Hour: Foundations for the Future
DESCRIPTION:​Join us for an evening of connection\, conversation\, and community at our next AAPI Empower Hour\, hosted at Bluestream Wine Bar & Gallery in Chinatown. \n​Foundations for the Future is about investing in people\, families\, and leadership that strengthen our community for the long term. This gathering brings together professionals\, nonprofit leaders\, and community members who want to connect\, learn\, and give back in meaningful ways. \n​🎟 Your $10 ticket includes: \n\n\n​Light bites and access to a welcoming\, thoughtfully curated networking experience \n\n\n​The opportunity to meet local nonprofit leaders and learn about volunteer and board opportunities \n\n\n​A meaningful way to give back — 10% of drink proceeds will benefit our featured AAPI nonprofit partner (to be announced soon) \n\n\n​📍 Location: Bluestream Wine Bar & Gallery\, San Francisco\n📅 Date: Thursday\, January 29\, 2026\n🕠 Time: 5:30 PM – 7:30 PM \n​Come meet inspiring people\, support a local AAPI-owned business\, and help build strong foundations for our community’s future.
URL:https://www.asianinc.org/event/aapi-empower-hour-foundations-for-the-future/
LOCATION:Bluestream Wine Bar & Gallery\, 555 Grant Ave\, San Francisco\, CA\, 94108\, United States
CATEGORIES:Community
ATTACH;FMTTYPE=image/png:https://www.asianinc.org/wp-content/uploads/2026/01/1292026-AAPI-EMPOWER-HOUR-png-1.png
END:VEVENT
BEGIN:VEVENT
DTSTART;TZID=UTC:20260130T180000
DTEND;TZID=UTC:20260130T200000
DTSTAMP:20260419T235939
CREATED:20260126T233453Z
LAST-MODIFIED:20260126T233453Z
UID:7672-1769796000-1769803200@www.asianinc.org
SUMMARY:Sunset Night Market Community Meeting
DESCRIPTION:Sunset Night Market Community Meeting 日落夜市社區會議 \n\nThe Sunset Night Market Collaborative is hosting a community meeting on Friday\, January 30th at 6 p.m. to share feedback about the Sunset Night Market held at Wah Mei. Please join us to share your thoughts and help shape future events. We’d love to hear from you! \n\n日落夜市協作團隊（Sunset Night Market Collaborative）將舉辦一場社區座談會，邀請大家分享在華美舉辦的日落夜市活動回饋。誠摯邀請您一同參與，分享您的想法，協助我們共同規劃與打造未來的活動。我們非常期待聽到您的寶貴意見！\n會議資訊:1 月30 號，星期五。 晚上6 點
URL:https://www.asianinc.org/event/sunset-night-market-community-meeting/
LOCATION:Wah Mei School\, 1400 Judah Street\, San Francsico\, CA\, 94122\, United States
CATEGORIES:Advocacy,Business,Community
ATTACH;FMTTYPE=image/png:https://www.asianinc.org/wp-content/uploads/2026/01/1.30.2026-SNM-Community-Meeting-png.png
ORGANIZER;CN="Sunset Mercantile%2C Wah Mei%2C Into the Streets%2C ASIAN%2C Inc.":MAILTO:sunsetnightmarket@gmail.com
END:VEVENT
END:VCALENDAR