BEGIN:VCALENDAR
VERSION:2.0
PRODID:-//ASIAN, Inc. | Non-profit - ECPv6.15.17.1//NONSGML v1.0//EN
CALSCALE:GREGORIAN
METHOD:PUBLISH
X-WR-CALNAME:ASIAN, Inc. | Non-profit
X-ORIGINAL-URL:https://www.asianinc.org
X-WR-CALDESC:Events for ASIAN, Inc. | Non-profit
REFRESH-INTERVAL;VALUE=DURATION:PT1H
X-Robots-Tag:noindex
X-PUBLISHED-TTL:PT1H
BEGIN:VTIMEZONE
TZID:UTC
BEGIN:STANDARD
TZOFFSETFROM:+0000
TZOFFSETTO:+0000
TZNAME:UTC
DTSTART:20250101T000000
END:STANDARD
END:VTIMEZONE
BEGIN:VEVENT
DTSTART;TZID=UTC:20260419T100000
DTEND;TZID=UTC:20260419T170000
DTSTAMP:20260419T191721
CREATED:20260313T215636Z
LAST-MODIFIED:20260313T215652Z
UID:7205-1776592800-1776618000@www.asianinc.org
SUMMARY:4/19/2026 FIRST-TIME HOMEBUYER EDUCATION & CERTIFICATION WORKSHOP (Cantonese | Online) 2026年4月19號 首次購屋者教育及證書班（粵語 | 綫上講座）
DESCRIPTION:講座簡介: \n通過參加首次購屋者教育及證書班，您可以了解房屋貸款的基本要求以及如何提高信用和財務管理的能力。此外，您還可以學習購房的步驟，包括如何選房、報價和成交房子，讓你在購買房子之前做好更充分的準備！ \n講座内容: \n\n信用和財務管理的重要性\n房屋貸款的資格和要求\n房地產的知識\n購買房屋的步驟流程\n\n講座細節: \n講座分為兩個部分，中間有一個小時的休息時間。 您必須兩個部分都參加。  \n第一部分: 上午10點至下午1點 \n第二部分: 下午2點至下午5點 \n本次活動免費。 \n請注意：每位參與者必須單獨註冊。
URL:https://www.asianinc.org/event/4-19-2026-first-time-homebuyer-education-certification-workshop-cantonese-online/
LOCATION:Zoom Webinar (Online)
CATEGORIES:Housing
ATTACH;FMTTYPE=image/png:https://www.asianinc.org/wp-content/uploads/2025/11/Housing-First-Time-Homebuyer-Education-Certification-Workshop-png.png
END:VEVENT
BEGIN:VEVENT
DTSTART;TZID=UTC:20260426T100000
DTEND;TZID=UTC:20260426T120000
DTSTAMP:20260419T191721
CREATED:20260413T182556Z
LAST-MODIFIED:20260413T183244Z
UID:7864-1777197600-1777204800@www.asianinc.org
SUMMARY:4-26-2026 Workshop: Steps to Homeownership & Inheritance Planning (English | In Person) 2026年4月26號講座：邁向購屋之路與房產繼承規劃（英文 | 現場）
DESCRIPTION:Date & Time: 4-26-2026\, 10:00 AM – 12:00 PM \n日期與時間：2026年4月26號，上午10點至中午12點 \nWorkshop Address: 1801 E Edinger Ave\, Suite 210\, Santa Ana\, CA 92705 \n講座地址：1801 E Edinger Ave\, Suite 210\, Santa Ana\, CA92705 \nLanguage： English (with Chinese Interpretation) \n語言: 英文（附中文口譯） \n  \nThis workshop is to guide you through the homeownership journey—from improving your credit and saving for a down payment to understanding mortgage qualification and navigating the homebuying process with confidence. We also provide information and strategies to support your inheritance planning and help you prepare for a smooth transfer of your home to the next generation. \n我們舉辦此講座，旨在引導您完成購屋歷程——從提升信用、儲蓄首付款，到了解房貸資格並自信地掌握整個購屋流程。我們同時提供房產繼承規劃的相關資訊與策略，協助您做好準備，讓房產能順利傳承給下一代。 \n  \nWorkshop Topics 講座內容 ： \n\nBuilding a Strong Financial Foundation建立穩固的財務基礎\nPreparing for Mortgage Qualification準備房貸資格審核\nNavigating the Homebuying Process掌握購屋流程\nGovernment Housing Assistance Programs 政府住房計畫\nBasics of Inheritance Planning房產繼承規劃\n\n  \nThis event is free. \nPLEASE NOTE: Each participant must register individually. \n本次活動免費。 \n請注意：每位參與者必須單獨註冊。
URL:https://www.asianinc.org/event/04262026workshop/
LOCATION:Santa Ana\, 1801 E Edinger Ave\, Suite 210\, Santa Ana\, CA\, 92705
CATEGORIES:Housing
ATTACH;FMTTYPE=image/png:https://www.asianinc.org/wp-content/uploads/2026/04/4-26-2026-Santa-Ana-Workshop-Website-feature-pic-png.png
END:VEVENT
BEGIN:VEVENT
DTSTART;TZID=UTC:20260430T173000
DTEND;TZID=UTC:20260430T193000
DTSTAMP:20260419T191721
CREATED:20260324T070823Z
LAST-MODIFIED:20260324T070901Z
UID:7765-1777570200-1777577400@www.asianinc.org
SUMMARY:AAPI Empower Hour: Stronger Together The Power of Partnership
DESCRIPTION: Stronger Together: The Power of Partnership on Thursday\, April 30th! \nThe future of our community isn’t built alone\, it’s built together. \nAAPI Empower Hour brings together passionate individuals and AAPI nonprofits for an evening of connection\, purpose\, and impact. Whether you’re looking to volunteer\, join a board\, or simply learn more\, this is your chance to engage with organizations driving real change. \nThis month\, we’re highlighting the powerful partnership between Wah Mei and ASIAN\, Inc. collaborating across early childhood education\, youth and community development\, housing\, and small business support. Our work is a testament to what’s possible when we pool resources\, amplify voices\, and build collectively. Together we’ve worked on projects like the Sunset Night Market and a larger collaborate in establishing and running the Sunset Chinese Cultural District (SCCD). \n$10 admission includes light bites\nPlus\, 10% of all drink proceeds will directly support Wah Mei and ASIAN\, Inc. \nCome for the connections\, stay for the impact. See you in April!
URL:https://www.asianinc.org/event/aapi-empower-hour-stronger-together-the-power-of-partnership/
LOCATION:Restaurant Anzu @ Hotel Nikko\, 222 Mason St\, San Francisco\, CA\, 94102\, United States
CATEGORIES:Community
ATTACH;FMTTYPE=image/png:https://www.asianinc.org/wp-content/uploads/2026/03/4.30.2026-AAPI-Empower-Hour-png.png
END:VEVENT
END:VCALENDAR