BEGIN:VCALENDAR
VERSION:2.0
PRODID:-//ASIAN, Inc. | Non-profit - ECPv6.15.17.1//NONSGML v1.0//EN
CALSCALE:GREGORIAN
METHOD:PUBLISH
X-WR-CALNAME:ASIAN, Inc. | Non-profit
X-ORIGINAL-URL:https://www.asianinc.org/zh/
X-WR-CALDESC:ASIAN, Inc. | Non-profit的活动
REFRESH-INTERVAL;VALUE=DURATION:PT1H
X-Robots-Tag:noindex
X-PUBLISHED-TTL:PT1H
BEGIN:VTIMEZONE
TZID:America/Los_Angeles
BEGIN:DAYLIGHT
TZOFFSETFROM:-0800
TZOFFSETTO:-0700
TZNAME:PDT
DTSTART:20230312T100000
END:DAYLIGHT
BEGIN:STANDARD
TZOFFSETFROM:-0700
TZOFFSETTO:-0800
TZNAME:PST
DTSTART:20231105T090000
END:STANDARD
BEGIN:DAYLIGHT
TZOFFSETFROM:-0800
TZOFFSETTO:-0700
TZNAME:PDT
DTSTART:20240310T100000
END:DAYLIGHT
BEGIN:STANDARD
TZOFFSETFROM:-0700
TZOFFSETTO:-0800
TZNAME:PST
DTSTART:20241103T090000
END:STANDARD
BEGIN:DAYLIGHT
TZOFFSETFROM:-0800
TZOFFSETTO:-0700
TZNAME:PDT
DTSTART:20250309T100000
END:DAYLIGHT
BEGIN:STANDARD
TZOFFSETFROM:-0700
TZOFFSETTO:-0800
TZNAME:PST
DTSTART:20251102T090000
END:STANDARD
END:VTIMEZONE
BEGIN:VEVENT
DTSTART;TZID=America/Los_Angeles:20240827T180000
DTEND;TZID=America/Los_Angeles:20240827T200000
DTSTAMP:20260420T045709
CREATED:20250121T073248Z
LAST-MODIFIED:20250121T073248Z
UID:6877-1724781600-1724788800@www.asianinc.org
SUMMARY:購後工作坊：房屋維護（粵語）
DESCRIPTION:本工作坊旨在為新屋主提供房屋所有權各方面的指導，包括財務規劃、房屋維護、屋主協會 (HOA) 以及應急準備。它強調預算編列的重要性、了解 HOA 的責任和管理、進行房屋維修和改善，以及保存記錄以實現有效的維護和財務穩定。  \n如何加入：Zoom 會議 \n註冊連結：https://us06web.zoom.us/meeting/register/tZYrcOyhpzgiGdfZpg6kaDqw1jnFiiU51BPk   \n註冊後： \n\n您將收到一封電子郵件確認函，其中包含 Zoom 連結。\n當您在 Zoom 上加入線上工作坊時，您需要輸入您的法定姓名（如身分證/駕照上所示）、您自己的電子郵件地址和其他所需資訊。
URL:https://www.asianinc.org/zh/event/%e8%b3%bc%e5%be%8c%e5%b7%a5%e4%bd%9c%e5%9d%8a%ef%bc%9a%e6%88%bf%e5%b1%8b%e7%b6%ad%e8%ad%b7%ef%bc%88%e7%b2%b5%e8%aa%9e%ef%bc%89/
CATEGORIES:住房咨询
END:VEVENT
END:VCALENDAR