BEGIN:VCALENDAR
VERSION:2.0
PRODID:-//ASIAN, Inc. | Non-profit - ECPv6.15.17.1//NONSGML v1.0//EN
CALSCALE:GREGORIAN
METHOD:PUBLISH
X-WR-CALNAME:ASIAN, Inc. | Non-profit
X-ORIGINAL-URL:https://www.asianinc.org/zh/
X-WR-CALDESC:ASIAN, Inc. | Non-profit的活动
REFRESH-INTERVAL;VALUE=DURATION:PT1H
X-Robots-Tag:noindex
X-PUBLISHED-TTL:PT1H
BEGIN:VTIMEZONE
TZID:America/Los_Angeles
BEGIN:DAYLIGHT
TZOFFSETFROM:-0800
TZOFFSETTO:-0700
TZNAME:PDT
DTSTART:20230312T100000
END:DAYLIGHT
BEGIN:STANDARD
TZOFFSETFROM:-0700
TZOFFSETTO:-0800
TZNAME:PST
DTSTART:20231105T090000
END:STANDARD
BEGIN:DAYLIGHT
TZOFFSETFROM:-0800
TZOFFSETTO:-0700
TZNAME:PDT
DTSTART:20240310T100000
END:DAYLIGHT
BEGIN:STANDARD
TZOFFSETFROM:-0700
TZOFFSETTO:-0800
TZNAME:PST
DTSTART:20241103T090000
END:STANDARD
BEGIN:DAYLIGHT
TZOFFSETFROM:-0800
TZOFFSETTO:-0700
TZNAME:PDT
DTSTART:20250309T100000
END:DAYLIGHT
BEGIN:STANDARD
TZOFFSETFROM:-0700
TZOFFSETTO:-0800
TZNAME:PST
DTSTART:20251102T090000
END:STANDARD
END:VTIMEZONE
BEGIN:VEVENT
DTSTART;TZID=America/Los_Angeles:20241117T100000
DTEND;TZID=America/Los_Angeles:20241117T170000
DTSTAMP:20260420T043323
CREATED:20250121T065108Z
LAST-MODIFIED:20250121T065108Z
UID:6891-1731837600-1731862800@www.asianinc.org
SUMMARY:首次購房者教育與認證工作坊（線上英文工作坊）
DESCRIPTION:透過參加首次購房者教育與認證工作坊，您可以了解貸款的基本要求，以及如何提升信用和財務管理技能。此外，您還可以學習購房的步驟，包括房屋選購、提出報價和過戶期，以便在購房前做好更充分的準備！  \n工作坊費用：免費\n如何加入：Zoom 線上研討會（會議詳細資訊將於註冊確認後提供）\n註冊連結：https://us06web.zoom.us/meeting/register/tZEtf-yppzgrGtOSumOjwJXOmjDIgWxrnTen \n工作坊主題 \n\n信用和財務管理的重要性\n貸款的基本要求\n房地產知識\n購房步驟\n\n如何取得教育完成信函 \n\n完成 2 小時的 SFMOHCD 購房者入門課程（僅適用於參與舊金山房屋援助計畫）\n完成 6 小時的首次購房者工作坊\n完成 2 小時的購房者諮詢環節\n\n工作坊詳細資訊\n環節\n工作坊分為兩個環節舉行，中間休息一小時。您必須參加兩個環節。  \n\n第一節：上午 10 點 – 下午 1 點\n第二節：下午 2 點 – 下午 5 點\n\n語言\n工作坊以英文進行。
URL:https://www.asianinc.org/zh/event/%e9%a6%96%e6%ac%a1%e8%b3%bc%e6%88%bf%e8%80%85%e6%95%99%e8%82%b2%e8%88%87%e8%aa%8d%e8%ad%89%e5%b7%a5%e4%bd%9c%e5%9d%8a%ef%bc%88%e7%b7%9a%e4%b8%8a%e8%8b%b1%e6%96%87%e5%b7%a5%e4%bd%9c%e5%9d%8a%ef%bc%89/
CATEGORIES:住房咨询
END:VEVENT
END:VCALENDAR