BEGIN:VCALENDAR
VERSION:2.0
PRODID:-//ASIAN, Inc. | Non-profit - ECPv6.15.17.1//NONSGML v1.0//EN
CALSCALE:GREGORIAN
METHOD:PUBLISH
X-ORIGINAL-URL:https://www.asianinc.org/zh/
X-WR-CALDESC:ASIAN, Inc. | Non-profit的活动
REFRESH-INTERVAL;VALUE=DURATION:PT1H
X-Robots-Tag:noindex
X-PUBLISHED-TTL:PT1H
BEGIN:VTIMEZONE
TZID:UTC
BEGIN:STANDARD
TZOFFSETFROM:+0000
TZOFFSETTO:+0000
TZNAME:UTC
DTSTART:20250101T000000
END:STANDARD
END:VTIMEZONE
BEGIN:VEVENT
DTSTART;VALUE=DATE:20260122
DTEND;VALUE=DATE:20260312
DTSTAMP:20260420T015721
CREATED:20260122T012613Z
LAST-MODIFIED:20260122T012613Z
UID:7666-1769040000-1773273599@www.asianinc.org
SUMMARY:海灣之窗花燈展覽
DESCRIPTION:海灣之窗花燈展覽，展期至 2026 年 3 月 11 日！ \n海灣之窗：照亮移民女性的視角，是一個由 15 個雕塑花燈組成的分散式展覽。每個花燈都基於與 15 位工人階級、移民、華裔或拉丁裔女性合作設計的剪紙。這些藝術品探索了移民權利、工人權利、高昂的生活成本、可負擔住房、公共安全和心理健康等問題的交叉生活經驗，以及女性如何應對這些結構性挑戰。   \n海灣之窗由 2025 年創意資本獎、Zellerbach 家庭基金會的社區藝術計畫、南方曝光的另類曝光補助金、社區參與的藝術家與創意人士補助金、A Blade of Grass 的田野基金和 亞裔公司贊助。 \n首席藝術家：Christine Wong Yap \n貢獻設計師：AiLan Xie 謝愛蘭\, Cammi Xingyu Huang 黃幸瑜\, ChunMei Cao 曹春梅\, DanLi Xu 許丹麗\, Lidia “Lupita” Iraheta\, Marcela Escamilla\, Mayra Alfaro\, MiaoFen Guan 關妙芬\, Nadia Rodriguez\, Selina Luo 羅玉蓮\, Tomasa Ramirez\, YongYu “Ah Yu” Lei 雷泳瑜\, YongYu “Yoyo” Situ 司徒咏瑜\, YuJuan “Ah Juan” Chen 陳玉娟\, Yurisma Gonzalez. \n專案協調員：Stephan Xie、Lee Oscar Gomez。 \n口譯員/翻譯員：Andreína Maldonado、Weikun Tang、Lauren Huang、Katie Beas。 \n客座藝術家：Beatriz Vasquez、Xiaoqing Shi。
URL:https://www.asianinc.org/zh/event/%e6%b5%b7%e7%81%a3%e4%b9%8b%e7%aa%97%e8%8a%b1%e7%87%88%e5%b1%95%e8%a6%bd/
LOCATION:舊金山\, 舊金山\, 加州\, United States
CATEGORIES:宣傳
ATTACH;FMTTYPE=image/jpeg:https://www.asianinc.org/wp-content/uploads/2026/01/BayWin-Lanterns-CCC-A1-InstallInt-PhotoRichLomibao-1_051-1818x1234-jpg.jpg
END:VEVENT
BEGIN:VEVENT
DTSTART;TZID=UTC:20260207T100000
DTEND;TZID=UTC:20260207T120000
DTSTAMP:20260420T015721
CREATED:20251121T214207Z
LAST-MODIFIED:20260114T230834Z
UID:7194-1770458400-1770465600@www.asianinc.org
SUMMARY:2026 年 2 月 7 日 MOHCD 購房者計劃說明會（廣東話 | 線上）2026年2月7號三藩市政府購屋計劃網上介紹會 (粵語 | 綫上講座)
DESCRIPTION:講座簡介： \n歡迎參加免費的 MOHCD 三藩市政府購屋計劃說明會。通過參加此說明會，您可以了解三藩市各項購屋援助計劃的要求和申請流程，從而評估自己的申請資格。  \n講座內容： \n\n舊金山有哪些購屋者計畫，包括：市價以下單位（BMR）、購屋貸款首期資助計畫（DALP）、房貸稅收減免計畫（MCC）等？\n計畫要求與資格條件：\n\n\n收入計算\n資產審核\n貸款條件\n抽籤優先順序\n申請流程\n\n本次活動為免費。 \n請注意：每位參加者皆須個別註冊。
URL:https://www.asianinc.org/zh/event/2026%e5%b9%b42%e6%9c%887%e8%99%9f%e4%b8%89%e8%97%a9%e5%b8%82%e6%94%bf%e5%ba%9c%e8%b3%bc%e5%b1%8b%e8%a8%88%e5%8a%83%e7%b6%b2%e4%b8%8a%e4%bb%8b%e7%b4%b9%e6%9c%83-%e7%b6%ab%e4%b8%8a-%e7%b2%b5%e8%aa%9e/
LOCATION:Zoom 線上研討會（線上）
CATEGORIES:住房咨询
ATTACH;FMTTYPE=image/png:https://www.asianinc.org/wp-content/uploads/2025/11/Housing-MOHCD-Orientation-png.png
END:VEVENT
BEGIN:VEVENT
DTSTART;TZID=UTC:20260207T130000
DTEND;TZID=UTC:20260207T150000
DTSTAMP:20260420T015721
CREATED:20260114T232225Z
LAST-MODIFIED:20260114T232422Z
UID:7631-1770469200-1770476400@www.asianinc.org
SUMMARY:2026 年 2 月 7 日租賃準備講座（廣東話 | 線上）2026年2月7號免費租房準備與可負擔租賃資訊講座 （粵語 | 線上講座）
DESCRIPTION:租賃準備講座 透過教授財務管理、信用建立策略和重要房屋計畫，協助租屋者了解房屋市場。參與者學習使用  DAHLIA 房屋入口網站 並了解申請和抽籤流程。本講座還提供房屋援助資源，以支持租屋者獲得穩定、可負擔的住房。  \n租房準備與可負擔租賃資訊講座旨在幫助租屋者更了解房屋市場，課程內容包括財務管理、信用建設策略以及重要的可負擔資訊介紹。參與者將學習如何使用DAHLIA 住房網站，並了解申請和抽籤流程。講座也將提供租赁援助資源，幫助租屋者獲得穩定且負擔得起的租房單位。 \n  \n主題（講座內容）： \n\n財務管理\n建立良好信用記錄\n了解房屋市場概況\n舊金山住房項目\nDAHLIA 舊金山住房資訊平台\n 申請和抽籤流程\n住房援助和資源\n\n  \n此活動免費。 \n請注意：每位參與者都必須個別註冊。 \n本次活動為免費。 \n請注意：每位參加者皆須個別註冊。
URL:https://www.asianinc.org/zh/event/2026%e5%b9%b42%e6%9c%887%e6%97%a5%e7%a7%9f%e8%b3%83%e8%ac%9b%e5%ba%a7%ef%bc%88%e7%b2%b5%e8%aa%9e-%e7%b7%9a%e4%b8%8a%ef%bc%892026%e5%b9%b42%e6%9c%887%e8%99%9f%e5%85%8d%e8%b2%bb%e7%a7%9f%e6%88%bf/
LOCATION:Zoom 線上研討會（線上）
CATEGORIES:住房咨询
ATTACH;FMTTYPE=image/png:https://www.asianinc.org/wp-content/uploads/2025/12/Rental-Readiness-Workshop-png.png
END:VEVENT
END:VCALENDAR