BEGIN:VCALENDAR
VERSION:2.0
PRODID:-//ASIAN, Inc. | Non-profit - ECPv6.15.17.1//NONSGML v1.0//EN
CALSCALE:GREGORIAN
METHOD:PUBLISH
X-ORIGINAL-URL:https://www.asianinc.org/zh/
X-WR-CALDESC:ASIAN, Inc. | Non-profit的活动
REFRESH-INTERVAL;VALUE=DURATION:PT1H
X-Robots-Tag:noindex
X-PUBLISHED-TTL:PT1H
BEGIN:VTIMEZONE
TZID:UTC
BEGIN:STANDARD
TZOFFSETFROM:+0000
TZOFFSETTO:+0000
TZNAME:UTC
DTSTART:20250101T000000
END:STANDARD
END:VTIMEZONE
BEGIN:VEVENT
DTSTART;VALUE=DATE:20260122
DTEND;VALUE=DATE:20260312
DTSTAMP:20260420T015832
CREATED:20260122T012613Z
LAST-MODIFIED:20260122T012613Z
UID:7666-1769040000-1773273599@www.asianinc.org
SUMMARY:海灣之窗花燈展覽
DESCRIPTION:海灣之窗花燈展覽，展期至 2026 年 3 月 11 日！ \n海灣之窗：照亮移民女性的視角，是一個由 15 個雕塑花燈組成的分散式展覽。每個花燈都基於與 15 位工人階級、移民、華裔或拉丁裔女性合作設計的剪紙。這些藝術品探索了移民權利、工人權利、高昂的生活成本、可負擔住房、公共安全和心理健康等問題的交叉生活經驗，以及女性如何應對這些結構性挑戰。   \n海灣之窗由 2025 年創意資本獎、Zellerbach 家庭基金會的社區藝術計畫、南方曝光的另類曝光補助金、社區參與的藝術家與創意人士補助金、A Blade of Grass 的田野基金和 亞裔公司贊助。 \n首席藝術家：Christine Wong Yap \n貢獻設計師：AiLan Xie 謝愛蘭\, Cammi Xingyu Huang 黃幸瑜\, ChunMei Cao 曹春梅\, DanLi Xu 許丹麗\, Lidia “Lupita” Iraheta\, Marcela Escamilla\, Mayra Alfaro\, MiaoFen Guan 關妙芬\, Nadia Rodriguez\, Selina Luo 羅玉蓮\, Tomasa Ramirez\, YongYu “Ah Yu” Lei 雷泳瑜\, YongYu “Yoyo” Situ 司徒咏瑜\, YuJuan “Ah Juan” Chen 陳玉娟\, Yurisma Gonzalez. \n專案協調員：Stephan Xie、Lee Oscar Gomez。 \n口譯員/翻譯員：Andreína Maldonado、Weikun Tang、Lauren Huang、Katie Beas。 \n客座藝術家：Beatriz Vasquez、Xiaoqing Shi。
URL:https://www.asianinc.org/zh/event/%e6%b5%b7%e7%81%a3%e4%b9%8b%e7%aa%97%e8%8a%b1%e7%87%88%e5%b1%95%e8%a6%bd/
LOCATION:舊金山\, 舊金山\, 加州\, United States
CATEGORIES:宣傳
ATTACH;FMTTYPE=image/jpeg:https://www.asianinc.org/wp-content/uploads/2026/01/BayWin-Lanterns-CCC-A1-InstallInt-PhotoRichLomibao-1_051-1818x1234-jpg.jpg
END:VEVENT
BEGIN:VEVENT
DTSTART;TZID=UTC:20260212T140000
DTEND;TZID=UTC:20260212T150000
DTSTAMP:20260420T015832
CREATED:20260204T213043Z
LAST-MODIFIED:20260204T213043Z
UID:7706-1770904800-1770908400@www.asianinc.org
SUMMARY:[KYR 工作坊] 移民執法最新資訊 (與 CAA 合作)
DESCRIPTION:[KYR 工作坊] 移民執法最新資訊 (與 CAA 合作) \n2026 年 2 月 12 日 下午 2 點 (太平洋標準時間) ｜｜ Zoom 線上研討會 \n誠摯邀請您參加一場重要的社區講座，探討移民執法與您的權利。了解您在與聯邦移民官員 (包括 ICE) 接觸時的憲法保障。我們將以清晰易懂的語言，為所有人詳細說明第四修正案的保障措施、行政與司法逮捕令的區別、在 ICE 接觸時應做 (以及不應做) 的事項、安全的記錄實踐，以及聖塔克拉拉縣提供的當地法律支援資源。   \n本次簡報也將涵蓋目前的移民執法協議、ICE 如何識別和接觸個人、執法與例行互動之間的區別，以及應對聯邦探員的最佳實踐。我們將討論近期備受關注的執法事件及其對社區信任和當地應對策略的影響。  \n與華人權益促進會 (CAA) 合作舉辦。
URL:https://www.asianinc.org/zh/event/kyr-%e5%b7%a5%e4%bd%9c%e5%9d%8a-%e7%a7%bb%e6%b0%91%e5%9f%b7%e6%b3%95%e6%9c%80%e6%96%b0%e8%b3%87%e8%a8%8a-%e8%88%87-caa-%e5%90%88%e4%bd%9c/
LOCATION:Zoom 線上研討會（線上）
CATEGORIES:商業
ATTACH;FMTTYPE=image/png:https://www.asianinc.org/wp-content/uploads/2026/02/2.12.2026-KYR-Workshop-Updates-on-Immigration-Enforcement-with-CAA-png.png
END:VEVENT
END:VCALENDAR