BEGIN:VCALENDAR
VERSION:2.0
PRODID:-//ASIAN, Inc. | Non-profit - ECPv6.15.17.1//NONSGML v1.0//EN
CALSCALE:GREGORIAN
METHOD:PUBLISH
X-ORIGINAL-URL:https://www.asianinc.org/zh/
X-WR-CALDESC:ASIAN, Inc. | Non-profit的活动
REFRESH-INTERVAL;VALUE=DURATION:PT1H
X-Robots-Tag:noindex
X-PUBLISHED-TTL:PT1H
BEGIN:VTIMEZONE
TZID:UTC
BEGIN:STANDARD
TZOFFSETFROM:+0000
TZOFFSETTO:+0000
TZNAME:UTC
DTSTART:20250101T000000
END:STANDARD
END:VTIMEZONE
BEGIN:VEVENT
DTSTART;VALUE=DATE:20260122
DTEND;VALUE=DATE:20260312
DTSTAMP:20260419T225133
CREATED:20260122T012613Z
LAST-MODIFIED:20260122T012613Z
UID:7666-1769040000-1773273599@www.asianinc.org
SUMMARY:海灣之窗花燈展覽
DESCRIPTION:海灣之窗花燈展覽，展期至 2026 年 3 月 11 日！ \n海灣之窗：照亮移民女性的視角，是一個由 15 個雕塑花燈組成的分散式展覽。每個花燈都基於與 15 位工人階級、移民、華裔或拉丁裔女性合作設計的剪紙。這些藝術品探索了移民權利、工人權利、高昂的生活成本、可負擔住房、公共安全和心理健康等問題的交叉生活經驗，以及女性如何應對這些結構性挑戰。   \n海灣之窗由 2025 年創意資本獎、Zellerbach 家庭基金會的社區藝術計畫、南方曝光的另類曝光補助金、社區參與的藝術家與創意人士補助金、A Blade of Grass 的田野基金和 亞裔公司贊助。 \n首席藝術家：Christine Wong Yap \n貢獻設計師：AiLan Xie 謝愛蘭\, Cammi Xingyu Huang 黃幸瑜\, ChunMei Cao 曹春梅\, DanLi Xu 許丹麗\, Lidia “Lupita” Iraheta\, Marcela Escamilla\, Mayra Alfaro\, MiaoFen Guan 關妙芬\, Nadia Rodriguez\, Selina Luo 羅玉蓮\, Tomasa Ramirez\, YongYu “Ah Yu” Lei 雷泳瑜\, YongYu “Yoyo” Situ 司徒咏瑜\, YuJuan “Ah Juan” Chen 陳玉娟\, Yurisma Gonzalez. \n專案協調員：Stephan Xie、Lee Oscar Gomez。 \n口譯員/翻譯員：Andreína Maldonado、Weikun Tang、Lauren Huang、Katie Beas。 \n客座藝術家：Beatriz Vasquez、Xiaoqing Shi。
URL:https://www.asianinc.org/zh/event/%e6%b5%b7%e7%81%a3%e4%b9%8b%e7%aa%97%e8%8a%b1%e7%87%88%e5%b1%95%e8%a6%bd/
LOCATION:舊金山\, 舊金山\, 加州\, United States
CATEGORIES:宣傳
ATTACH;FMTTYPE=image/jpeg:https://www.asianinc.org/wp-content/uploads/2026/01/BayWin-Lanterns-CCC-A1-InstallInt-PhotoRichLomibao-1_051-1818x1234-jpg.jpg
END:VEVENT
BEGIN:VEVENT
DTSTART;TZID=UTC:20260307T100000
DTEND;TZID=UTC:20260307T120000
DTSTAMP:20260419T225133
CREATED:20260210T225042Z
LAST-MODIFIED:20260210T225042Z
UID:7705-1772877600-1772884800@www.asianinc.org
SUMMARY:2026 年 3 月 7 日 MOHCD 說明會（廣東話 | 現場）2026年3月7號三藩市政府購屋計劃介紹會（粵語 | 現場講座）
DESCRIPTION:講座簡介： \n歡迎參加免費的 MOHCD 三藩市政府購屋計劃說明會。通過參加此說明會，您可以了解三藩市各項購屋援助計劃的要求和申請流程，從而評估自己的申請資格。  \n講座內容： \n\n舊金山有哪些購屋者計畫，包括：市價以下單位（BMR）、購屋貸款首期資助計畫（DALP）、房貸稅收減免計畫（MCC）等？\n計畫要求與資格條件：\n\n\n收入計算\n資產審核\n貸款條件\n抽籤優先順序\n申請流程\n\n本次活動為免費。 \n請注意：每位參加者皆須個別註冊。
URL:https://www.asianinc.org/zh/event/2026-%e5%b9%b4-3-%e6%9c%88-7-%e6%97%a5-mohcd-%e8%aa%aa%e6%98%8e%e6%9c%83%ef%bc%88%e5%bb%a3%e6%9d%b1%e8%a9%b1-%e7%8f%be%e5%a0%b4%ef%bc%892026%e5%b9%b43%e6%9c%887%e8%99%9f%e4%b8%89%e8%97%a9%e5%b8%82/
LOCATION:亞裔公司\, 1167 Mission 街\, 舊金山\, 94103\, United States
CATEGORIES:住房咨询
ATTACH;FMTTYPE=image/png:https://www.asianinc.org/wp-content/uploads/2025/11/Housing-MOHCD-Orientation-png.png
END:VEVENT
BEGIN:VEVENT
DTSTART;TZID=UTC:20260307T130000
DTEND;TZID=UTC:20260307T150000
DTSTAMP:20260419T225133
CREATED:20260210T225201Z
LAST-MODIFIED:20260210T225201Z
UID:7709-1772888400-1772895600@www.asianinc.org
SUMMARY:2026年3月7日購屋後講座：保護您的資產（粵語 | 現場講座）2026年3月7號 購屋後講座: 保護您的資產 （粵語 | 現場講座）
DESCRIPTION:本次講座旨在教育並協助新屋主透過各種計劃和服務來保護其資產。內容涵蓋房屋淨值和再融資、MOHCD 計劃合規性、資產規劃、預防房屋止贖等主題。講座將提供關於再融資選項、資格標準、次級協議以及貸款償還等資訊，並強調年度監控、出售 BMR（低於市場價格）單位以及償還 DALP 貸款的重要性。    \n這個研討會旨在教育並協助新屋主通過各種計劃和服務來保護他們的資產。它涵蓋了諸如房屋產權和再融資、MOHCD計劃合規性、資產規劃、預防房產拍賣等主題。它提供了有關再融資選擇、資格標準、降級協議以及貸款還款的信息。它還強調了年度監控的重要性，BMR（低於市場價格）單位的出售，以及DALP貸款的還款。 \n  \n日期與時間：3-7-2026，下午1:00 – 下午3:00 \n日期與時間：2026年3月7號，下午1點至3點 \n講座地址：1167 Mission St\, San Francisco\, CA 94103 \n講座地址：1167 Mission St\, San Francisco\, CA 94103 \n本次活動為免費。 \n請注意：每位參加者皆須個別註冊。
URL:https://www.asianinc.org/zh/event/2026%e5%b9%b43%e6%9c%887%e6%97%a5%e8%b3%bc%e5%b1%8b%e5%be%8c%e8%ac%9b%e5%ba%a7%ef%bc%9a%e4%bf%9d%e8%ad%b7%e6%82%a8%e7%9a%84%e8%b3%87%e7%94%a2%ef%bc%88%e7%b2%b5%e8%aa%9e-%e7%8f%be%e5%a0%b4%e8%ac%9b/
LOCATION:亞裔公司\, 1167 Mission 街\, 舊金山\, 94103\, United States
CATEGORIES:住房咨询
ATTACH;FMTTYPE=image/png:https://www.asianinc.org/wp-content/uploads/2025/12/Post-Purchase-Workshop-（Protect-Your-Assets-png.png
END:VEVENT
BEGIN:VEVENT
DTSTART;TZID=UTC:20260315T100000
DTEND;TZID=UTC:20260315T170000
DTSTAMP:20260419T225133
CREATED:20260210T225952Z
LAST-MODIFIED:20260210T225952Z
UID:7714-1773568800-1773594000@www.asianinc.org
SUMMARY:2026年3月15日 首次購屋者教育及證書班（粵語 | 現場講座）2026年3月15號 首次購屋者教育及證書班 (粵語 | 現場講座)
DESCRIPTION:講座簡介： \n通過參加首次購屋者教育及證書班，您可以了解房屋貸款的基本要求，以及如何提高信用和財務管理的能力。 此外，您還可以學習購房的步驟，包括如何選房、報價和成交房子，讓您在購買房子之前做好更充分的準備！ \n講座內容： \n\n信用和財務管理的重要性\n房屋貸款的資格和要求\n房地產的知識\n購買房屋的步驟流程\n\n講座細節： \n講座分為兩個部分，中間有一個小時的休息時間。 您必須參加所有兩個部分。   \n第一部分：上午 10 點至下午 1 點 \n第二部分：下午 2 點至下午 5 點 \n現場講座地址：1167 Mission st\, San Francisco\, CA 94103 \n現場講座日期及時間：3/15/2026，上午10點到下午5點 \n本次活動為免費。 \n請注意：每位參加者皆須個別註冊。
URL:https://www.asianinc.org/zh/event/2026%e5%b9%b43%e6%9c%8815%e6%97%a5-%e9%a6%96%e6%ac%a1%e8%b3%bc%e5%b1%8b%e8%80%85%e6%95%99%e8%82%b2%e5%8f%8a%e8%ad%89%e6%9b%b8%e7%8f%ad%ef%bc%88%e7%b2%b5%e8%aa%9e-%e7%8f%be%e5%a0%b4%e8%ac%9b%e5%ba%a7/
LOCATION:亞裔公司\, 1167 Mission 街\, 舊金山\, 94103\, United States
CATEGORIES:住房咨询
ATTACH;FMTTYPE=image/png:https://www.asianinc.org/wp-content/uploads/2025/11/Housing-First-Time-Homebuyer-Education-Certification-Workshop-png.png
END:VEVENT
BEGIN:VEVENT
DTSTART;TZID=UTC:20260411T100000
DTEND;TZID=UTC:20260411T120000
DTSTAMP:20260419T225133
CREATED:20260313T214854Z
LAST-MODIFIED:20260313T214854Z
UID:7753-1775901600-1775908800@www.asianinc.org
SUMMARY:2026/4/11 MOHCD 購屋者計畫說明會 (粵語 | 線上) 2026年4月11號三藩市政府購屋計劃網上介紹會 (粵語 | 綫上講座)
DESCRIPTION:講座簡介： \n歡迎參加免費的 MOHCD 三藩市政府購屋計劃說明會。通過參加此說明會，您可以了解三藩市各項購屋援助計劃的要求和申請流程，從而評估自己的申請資格。  \n講座內容： \n\n舊金山有哪些購屋者計畫，包括：市價以下單位（BMR）、購屋貸款首期資助計畫（DALP）、房貸稅收減免計畫（MCC）等？\n計畫要求與資格條件：\n\n\n收入計算\n資產審核\n貸款條件\n抽籤優先順序\n申請流程\n\n本次活動為免費。 \n請注意：每位參加者皆須個別註冊。
URL:https://www.asianinc.org/zh/event/2026-4-11-mohcd-%e8%b3%bc%e5%b1%8b%e8%80%85%e8%a8%88%e7%95%ab%e8%aa%aa%e6%98%8e%e6%9c%83-%e7%b2%b5%e8%aa%9e-%e7%b7%9a%e4%b8%8a-2026%e5%b9%b44%e6%9c%8811%e8%99%9f%e4%b8%89%e8%97%a9%e5%b8%82/
LOCATION:Zoom 線上研討會（線上）
CATEGORIES:住房咨询
ATTACH;FMTTYPE=image/png:https://www.asianinc.org/wp-content/uploads/2025/11/Housing-MOHCD-Orientation-png.png
END:VEVENT
BEGIN:VEVENT
DTSTART;TZID=UTC:20260411T120000
DTEND;TZID=UTC:20260411T140000
DTSTAMP:20260419T225134
CREATED:20260313T215141Z
LAST-MODIFIED:20260313T215141Z
UID:7755-1775908800-1775916000@www.asianinc.org
SUMMARY:2026/4/11 租屋講座（粵語｜線上）2026 年 4 月 11 日免費租屋準備與可負擔租賃資訊講座（粵語｜線上講座）
DESCRIPTION:租賃準備講座 透過教授財務管理、信用建立策略和重要房屋計畫，協助租屋者了解房屋市場。參與者學習使用  DAHLIA 房屋入口網站 並了解申請和抽籤流程。本講座還提供房屋援助資源，以支持租屋者獲得穩定、可負擔的住房。  \n租房準備與可負擔租賃資訊講座旨在幫助租屋者更了解房屋市場，課程內容包括財務管理、信用建設策略以及重要的可負擔資訊介紹。參與者將學習如何使用DAHLIA 住房網站，並了解申請和抽籤流程。講座也將提供租赁援助資源，幫助租屋者獲得穩定且負擔得起的租房單位。 \n  \n主題（講座內容）： \n\n財務管理\n建立良好信用記錄\n了解房屋市場概況\n舊金山住房項目\nDAHLIA 舊金山住房資訊平台\n 申請和抽籤流程\n住房援助和資源\n\n  \n此活動免費。 \n請注意：每位參與者都必須個別註冊。 \n本次活動為免費。 \n請注意：每位參加者皆須個別註冊。
URL:https://www.asianinc.org/zh/event/2026-4-11-%e7%a7%9f%e5%b1%8b%e8%ac%9b%e5%ba%a7%ef%bc%88%e7%b2%b5%e8%aa%9e%ef%bd%9c%e7%b7%9a%e4%b8%8a%ef%bc%892026-%e5%b9%b4-4-%e6%9c%88-11-%e6%97%a5%e5%85%8d%e8%b2%bb%e7%a7%9f%e5%b1%8b%e6%ba%96/
LOCATION:Zoom 線上研討會（線上）
CATEGORIES:住房咨询
ATTACH;FMTTYPE=image/png:https://www.asianinc.org/wp-content/uploads/2025/12/Rental-Readiness-Workshop-png.png
END:VEVENT
BEGIN:VEVENT
DTSTART;TZID=UTC:20260418T100000
DTEND;TZID=UTC:20260418T140000
DTSTAMP:20260419T225134
CREATED:20260401T060516Z
LAST-MODIFIED:20260401T060516Z
UID:7804-1776506400-1776520800@www.asianinc.org
SUMMARY:西區平價住宅資源博覽會
DESCRIPTION:在同一個地方找到您的平價住宅之路 \n 舊金山郡博覽會大樓 @ 1199 9th Ave\n2026 年 4 月 18 日星期六，上午 10 時至下午 2 時 \n請於 4 月 18 日星期六加入我們的舊金山西區平價住宅資源博覽會。這是一場免費的一站式活動，為您連結取得及維持住房所需的資源。無論您是在尋找住房、處理申請流程，還是尋求社區資源，這場活動都非常適合您。  \n探索來自 20 多個政府機構和社區合作夥伴的支持，內容包括：\n~ 平價住宅機會\n~ BMR 與 DAHLIA 申請指導\n~ 租客與房東權利支援\n~ 財務諮詢與工作坊\n~ 針對青少年、家庭和長者的計畫 \n 現場提供贈品與抽獎！ \n預約報名： https://forms.office.com/Pages/ResponsePage.aspx?id=IlWVZD6MMUy9geGoakTwRCq0Mg7fjhdLssJ6GhlR7zNUOVZOTklRS0JCN0hQOFZPSjVNTklNU0cyVCQlQCN0PWcu&origin=QRCode \n\n註冊時，請務必在以下選項中選擇 ASIAN\, Inc.：問題「您是如何得知本次住宅博覽會的？」→ 社區組織 →「ASIAN\, Inc.」
URL:https://www.asianinc.org/zh/event/%e8%a5%bf%e5%8d%80%e5%b9%b3%e5%83%b9%e4%bd%8f%e5%ae%85%e8%b3%87%e6%ba%90%e5%8d%9a%e8%a6%bd%e6%9c%83/
LOCATION:舊金山郡博覽會大樓\, 1199 9th Ave\, 舊金山\, 加州\, 94122\, United States
CATEGORIES:住房咨询
ATTACH;FMTTYPE=image/png:https://www.asianinc.org/wp-content/uploads/2026/04/4.18.2026-Westside-Affordable-Housing-Resource-Fair-png.png
END:VEVENT
BEGIN:VEVENT
DTSTART;TZID=UTC:20260419T100000
DTEND;TZID=UTC:20260419T170000
DTSTAMP:20260419T225134
CREATED:20260313T215636Z
LAST-MODIFIED:20260313T215636Z
UID:7758-1776592800-1776618000@www.asianinc.org
SUMMARY:2026/4/19 首次購屋者教育及證書工作坊（粵語 | 線上）2026 年 4 月 19 號 首次購屋者教育及證書班（粵語 | 綫上講座）
DESCRIPTION:講座簡介： \n通過參加首次購屋者教育及證書班，您可以了解房屋貸款的基本要求，以及如何提高信用和財務管理的能力。 此外，您還可以學習購房的步驟，包括如何選房、報價和成交房子，讓您在購買房子之前做好更充分的準備！ \n講座內容： \n\n信用和財務管理的重要性\n房屋貸款的資格和要求\n房地產的知識\n購買房屋的步驟流程\n\n講座細節： \n講座分為兩個部分，中間有一個小時的休息時間。 您必須參加所有兩個部分。   \n第一部分：上午 10 點至下午 1 點 \n第二部分：下午 2 點至下午 5 點 \n本次活動為免費。 \n請注意：每位參加者皆須個別註冊。
URL:https://www.asianinc.org/zh/event/2026-4-19-%e9%a6%96%e6%ac%a1%e8%b3%bc%e5%b1%8b%e8%80%85%e6%95%99%e8%82%b2%e5%8f%8a%e8%ad%89%e6%9b%b8%e5%b7%a5%e4%bd%9c%e5%9d%8a%ef%bc%88%e7%b2%b5%e8%aa%9e-%e7%b7%9a%e4%b8%8a%ef%bc%892026-%e5%b9%b4-4/
LOCATION:Zoom 線上研討會（線上）
CATEGORIES:住房咨询
ATTACH;FMTTYPE=image/png:https://www.asianinc.org/wp-content/uploads/2025/11/Housing-First-Time-Homebuyer-Education-Certification-Workshop-png.png
END:VEVENT
BEGIN:VEVENT
DTSTART;TZID=UTC:20260426T100000
DTEND;TZID=UTC:20260426T120000
DTSTAMP:20260419T225134
CREATED:20260413T182556Z
LAST-MODIFIED:20260413T183059Z
UID:7870-1777197600-1777204800@www.asianinc.org
SUMMARY:2026 年 4 月 26 日講座：邁向購屋之路與房產繼承規劃（英文｜現場）
DESCRIPTION:日期與時間：2026-04-26，上午 10:00 – 中午 12:00 \n日期與時間：2026 年 4 月 26 日，上午 10 點至中午 12 點 \n講座地址：1801 E Edinger Ave\, Suite 210\, Santa Ana\, CA 92705 \n講座地址：1801 E Edinger Ave\, Suite 210\, Santa Ana\, CA 92705 \n語言：英文（附中文口譯） \n語言：英文（附中文口譯） \n  \n本講座將引導您完成購屋之路——從改善信用、儲蓄頭期款，到了解房貸資格審核，並自信地掌握整個購屋流程。我們亦提供房產繼承規劃的相關資訊與策略，協助您做好準備，讓房屋能順利移轉並傳承給下一代。  \n我們舉辦此講座，旨在引導您完成購屋歷程——從提升信用、儲蓄頭期款，到了解房貸資格並自信地掌握整個購屋流程。我們同時提供房產繼承規劃的相關資訊與策略，協助您做好準備，讓房產能順利傳承給下一代。 \n  \n講座內容： \n\n建立穩固的財務基礎\n準備房貸資格審核\n掌握購屋流程\n政府住房補助計畫\n房產繼承規劃基礎\n\n  \n此活動免費。 \n請注意：每位參與者都必須個別註冊。 \n本次活動為免費。 \n請注意：每位參加者皆須個別註冊。
URL:https://www.asianinc.org/zh/event/2026-%e5%b9%b4-4-%e6%9c%88-26-%e6%97%a5%e8%ac%9b%e5%ba%a7%ef%bc%9a%e9%82%81%e5%90%91%e8%b3%bc%e5%b1%8b%e4%b9%8b%e8%b7%af%e8%88%87%e6%88%bf%e7%94%a2%e7%b9%bc%e6%89%bf%e8%a6%8f%e5%8a%83%ef%bc%88/
LOCATION:Santa Ana\, 1801 E Edinger Ave\, Suite 210\, Santa Ana\, CA\, 92705
CATEGORIES:住房咨询
ATTACH;FMTTYPE=image/png:https://www.asianinc.org/wp-content/uploads/2026/04/4-26-2026-Santa-Ana-Workshop-Website-feature-pic-png.png
END:VEVENT
BEGIN:VEVENT
DTSTART;TZID=UTC:20260430T173000
DTEND;TZID=UTC:20260430T193000
DTSTAMP:20260419T225134
CREATED:20260324T070823Z
LAST-MODIFIED:20260324T070911Z
UID:7770-1777570200-1777577400@www.asianinc.org
SUMMARY:AAPI 賦能時光：攜手更強——夥伴關係的力量
DESCRIPTION:4 月 30 日（週四）「攜手更強：夥伴關係的力量」！ \n我們社區的未來不是靠單打獨鬥建立，而是靠攜手共創。 \nAAPI Empower Hour 將熱忱人士與 AAPI 非營利組織齊聚一堂，共度一個充滿連結、使命與影響力的夜晚。無論您想投入志工服務、加入董事會，或只是想進一步了解，這都是您與推動真正改變的組織互動交流的絕佳機會。  \n本月，我們將聚焦 Wah Mei 與 ASIAN\, Inc. 之間強而有力的夥伴關係，雙方在幼兒教育、青少年與社區發展、住房，以及小型企業支持等領域攜手合作。我們的工作證明了：當我們整合資源、放大聲音並共同建設時，一切皆有可能。我們曾共同推動如 Sunset 夜市等專案，並在建立與營運 Sunset 華人文化區（SCCD）方面展開更大規模的合作。   \n$10 入場費包含輕食點心\n此外，所有飲品收益的 10% 將直接支持 Wah Mei 與 ASIAN\, Inc. \n為連結而來，為影響力而留。4 月見！
URL:https://www.asianinc.org/zh/event/aapi-%e8%b3%a6%e8%83%bd%e6%99%82%e5%85%89%ef%bc%9a%e6%94%9c%e6%89%8b%e6%9b%b4%e5%bc%b7-%e5%a4%a5%e4%bc%b4%e9%97%9c%e4%bf%82%e7%9a%84%e5%8a%9b%e9%87%8f/
LOCATION:日航酒店 Anzu 餐廳\, 222 Mason St\, 舊金山\, 加州\, 94102\, United States
CATEGORIES:社區
ATTACH;FMTTYPE=image/png:https://www.asianinc.org/wp-content/uploads/2026/03/4.30.2026-AAPI-Empower-Hour-png.png
END:VEVENT
BEGIN:VEVENT
DTSTART;TZID=UTC:20260502T100000
DTEND;TZID=UTC:20260502T120000
DTSTAMP:20260419T225134
CREATED:20260415T231556Z
LAST-MODIFIED:20260415T231556Z
UID:7908-1777716000-1777723200@www.asianinc.org
SUMMARY:2026/5/2 MOHCD 說明會（國語｜現場）2026年5月2號三藩市政府購屋計劃介紹會（國語｜現場講座）
DESCRIPTION:講座簡介： \n歡迎參加免費的 MOHCD 三藩市政府購屋計劃說明會。通過參加此說明會，您可以了解三藩市各項購屋援助計劃的要求和申請流程，從而評估自己的申請資格。  \n講座內容： \n\n舊金山有哪些購屋者計畫，包括：市價以下單位（BMR）、購屋貸款首期資助計畫（DALP）、房貸稅收減免計畫（MCC）等？\n計畫要求與資格條件：\n\n\n收入計算\n資產審核\n貸款條件\n抽籤優先順序\n申請流程\n\n本次活動為免費。 \n請注意：每位參加者皆須個別註冊。
URL:https://www.asianinc.org/zh/event/2026-5-2-mohcd-%e8%aa%aa%e6%98%8e%e6%9c%83%ef%bc%88%e5%9c%8b%e8%aa%9e%ef%bd%9c%e7%8f%be%e5%a0%b4%ef%bc%892026%e5%b9%b45%e6%9c%882%e8%99%9f%e4%b8%89%e8%97%a9%e5%b8%82%e6%94%bf%e5%ba%9c%e8%b3%bc/
LOCATION:亞裔公司\, 1167 Mission 街\, 舊金山\, 94103\, United States
CATEGORIES:住房咨询
ATTACH;FMTTYPE=image/png:https://www.asianinc.org/wp-content/uploads/2025/11/Housing-MOHCD-Orientation-png.png
END:VEVENT
BEGIN:VEVENT
DTSTART;TZID=UTC:20260502T120000
DTEND;TZID=UTC:20260502T140000
DTSTAMP:20260419T225134
CREATED:20260415T231834Z
LAST-MODIFIED:20260415T231834Z
UID:7910-1777723200-1777730400@www.asianinc.org
SUMMARY:2026/5/2 租屋工作坊（國語｜現場）2026年5月2號租房準備與可負擔租賃資訊講座（國語｜現場講座）
DESCRIPTION:租賃準備講座 透過教授財務管理、信用建立策略和重要房屋計畫，協助租屋者了解房屋市場。參與者學習使用  DAHLIA 房屋入口網站 並了解申請和抽籤流程。本講座還提供房屋援助資源，以支持租屋者獲得穩定、可負擔的住房。  \n租房準備與可負擔租賃資訊講座旨在幫助租屋者更了解房屋市場，課程內容包括財務管理、信用建設策略以及重要的可負擔資訊介紹。參與者將學習如何使用DAHLIA 住房網站，並了解申請和抽籤流程。講座也將提供租赁援助資源，幫助租屋者獲得穩定且負擔得起的租房單位。 \n  \n主題（講座內容）： \n\n財務管理\n建立良好信用記錄\n了解房屋市場概況\n舊金山住房項目\nDAHLIA 舊金山住房資訊平台\n 申請和抽籤流程\n住房援助和資源\n\n  \n此活動免費。 \n請注意：每位參與者都必須個別註冊。 \n本次活動為免費。 \n請注意：每位參加者皆須個別註冊。
URL:https://www.asianinc.org/zh/event/2026-5-2-%e7%a7%9f%e5%b1%8b%e5%b7%a5%e4%bd%9c%e5%9d%8a%ef%bc%88%e5%9c%8b%e8%aa%9e%ef%bd%9c%e7%8f%be%e5%a0%b4%ef%bc%892026%e5%b9%b45%e6%9c%882%e8%99%9f%e7%a7%9f%e6%88%bf%e6%ba%96%e5%82%99%e8%88%87/
LOCATION:亞裔公司\, 1167 Mission 街\, 舊金山\, 94103\, United States
CATEGORIES:住房咨询
ATTACH;FMTTYPE=image/png:https://www.asianinc.org/wp-content/uploads/2025/12/Rental-Readiness-Workshop-png.png
END:VEVENT
BEGIN:VEVENT
DTSTART;TZID=UTC:20260507T173000
DTEND;TZID=UTC:20260507T203000
DTSTAMP:20260419T225134
CREATED:20260325T062458Z
LAST-MODIFIED:20260325T062458Z
UID:7788-1778175000-1778185800@www.asianinc.org
SUMMARY:扎根與崛起：AAPI 傳承、創業與心理健康
DESCRIPTION:歡迎一同在「扎根與崛起」慶祝 AAPI 傳承、創業與心理健康！ \n\n\n\n\n歡迎來到 扎根與崛起：AAPI 傳承、創業與心理健康！誠邀您參加在 INSEAD 舊金山商業創新中心 舉辦的精彩活動。 \n在創業、心理健康與社區賦權的交會點上，我們將共同致敬亞裔美國人與太平洋島民（AAPI）傳承月、心理健康意識月與全國小型企業月。 \n本活動匯聚一群充滿活力的 AAPI 領袖、創業者、心理健康專業人士與社區倡議者，共同分享他們的歷程、挑戰與解方，探討如何在事業成長的同時優先重視心理健康。透過坦誠對談、人脈交流與資源分享，我們希望凸顯在創業領域中身心健康的重要性，並在社區內建立團結互助。我們也將展示五家在地 AAPI 擁有的小型企業，讓與會者有機會支持、選購並與在社區中發揮影響力的優秀攤商交流連結。   \n本活動由 ASIAN\, Inc.、Asian Leaders Alliance、INSEAD San Francisco 與 Asian Hustle Network 聯合呈獻。
URL:https://www.asianinc.org/zh/event/%e6%89%8e%e6%a0%b9%e8%88%87%e5%b4%9b%e8%b5%b7%ef%bc%9aaapi-%e5%82%b3%e6%89%bf%e3%80%81%e5%89%b5%e6%a5%ad%e8%88%87%e5%bf%83%e7%90%86%e5%81%a5%e5%ba%b7/
LOCATION:INSEAD 舊金山中心\, 224 Townsend St\, 舊金山\, 加州\, 94107\, United States
CATEGORIES:宣傳,社區
ATTACH;FMTTYPE=image/png:https://www.asianinc.org/wp-content/uploads/2026/03/May-2026-RR-AAPI-event-Eventbrite-2160-x-1080-px-1-png.png
END:VEVENT
BEGIN:VEVENT
DTSTART;TZID=UTC:20260517T100000
DTEND;TZID=UTC:20260517T170000
DTSTAMP:20260419T225134
CREATED:20260415T232208Z
LAST-MODIFIED:20260415T232208Z
UID:7912-1779012000-1779037200@www.asianinc.org
SUMMARY:2026/5/17 首次購屋者教育與認證工作坊（國語｜現場）2026年5月17號 首次購屋者教育及證書班（國語 | 現場講座）
DESCRIPTION:講座簡介： \n通過參加首次購屋者教育及證書班，您可以了解房屋貸款的基本要求，以及如何提高信用和財務管理的能力。 此外，您還可以學習購房的步驟，包括如何選房、報價和成交房子，讓您在購買房子之前做好更充分的準備！ \n講座內容： \n\n信用和財務管理的重要性\n房屋貸款的資格和要求\n房地產的知識\n購買房屋的步驟流程\n\n講座細節： \n講座分為兩個部分，中間有一個小時的休息時間。 您必須參加所有兩個部分。   \n第一部分：上午 10 點至下午 1 點 \n第二部分：下午 2 點至下午 5 點 \n本次活動為免費。 \n請注意：每位參加者皆須個別註冊。
URL:https://www.asianinc.org/zh/event/2026-5-17-%e9%a6%96%e6%ac%a1%e8%b3%bc%e5%b1%8b%e8%80%85%e6%95%99%e8%82%b2%e8%88%87%e8%aa%8d%e8%ad%89%e5%b7%a5%e4%bd%9c%e5%9d%8a%ef%bc%88%e5%9c%8b%e8%aa%9e%ef%bd%9c%e7%8f%be%e5%a0%b4%ef%bc%892026/
LOCATION:亞裔公司\, 1167 Mission 街\, 舊金山\, 94103\, United States
CATEGORIES:住房咨询
ATTACH;FMTTYPE=image/png:https://www.asianinc.org/wp-content/uploads/2025/11/Housing-First-Time-Homebuyer-Education-Certification-Workshop-png.png
END:VEVENT
BEGIN:VEVENT
DTSTART;TZID=UTC:20260529T180000
DTEND;TZID=UTC:20260529T213000
DTSTAMP:20260419T225134
CREATED:20260401T064221Z
LAST-MODIFIED:20260401T064221Z
UID:7841-1780077600-1780090200@www.asianinc.org
SUMMARY:為生命而笑
DESCRIPTION:「Laugh for Lives」將喜劇與社群連結在一起，打造一個充滿歡笑、連結與使命感的活力之夜，並由多位才華橫溢的喜劇演員帶來大膽且精彩的演出。 \n這不僅僅是一場喜劇表演，此活動更支持 ASIAN\, Inc. 與 AADP（亞裔美國人捐贈計畫）具影響力的工作，其收益將用於促進弱勢社群的公平、健康，並協助其獲得救命資源。 \n為歡笑而來，為使命而留，並在離去時知道您已協助改變現狀。 \n演出陣容即將揭曉！
URL:https://www.asianinc.org/zh/event/%e7%82%ba%e7%94%9f%e5%91%bd%e8%80%8c%e7%ac%91/
LOCATION:Marina Theatre\, 2149 Chestnut St\, 舊金山\, 加州\, 94123\, United States
CATEGORIES:社區
ATTACH;FMTTYPE=image/png:https://www.asianinc.org/wp-content/uploads/2026/04/5.29.2026-Laugh-for-Lives-png.png
END:VEVENT
BEGIN:VEVENT
DTSTART;TZID=UTC:20260625T090000
DTEND;TZID=UTC:20260625T150000
DTSTAMP:20260419T225134
CREATED:20260328T204106Z
LAST-MODIFIED:20260328T204106Z
UID:7794-1782378000-1782399600@www.asianinc.org
SUMMARY:第三屆年度中央谷地原住民經濟峰會
DESCRIPTION:
URL:https://www.asianinc.org/zh/event/%e7%ac%ac%e4%b8%89%e5%b1%86%e5%b9%b4%e5%ba%a6%e4%b8%ad%e5%a4%ae%e8%b0%b7%e5%9c%b0%e5%8e%9f%e4%bd%8f%e6%b0%91%e7%b6%93%e6%bf%9f%e5%b3%b0%e6%9c%83/
LOCATION:Table Mountain 賭場\, 777 Jackpot Ln\, 弗萊安特\, 加州\, 93626\, United States
CATEGORIES:商業
ATTACH;FMTTYPE=image/png:https://www.asianinc.org/wp-content/uploads/2026/03/6182026-3rd-Annual-Central-Valley-Native-Economic-Summit-1-png.png
END:VEVENT
BEGIN:VEVENT
DTSTART;TZID=UTC:20261002T050000
DTEND;TZID=UTC:20261002T210000
DTSTAMP:20260419T225134
CREATED:20260126T233739Z
LAST-MODIFIED:20260126T233903Z
UID:7683-1790917200-1790974800@www.asianinc.org
SUMMARY:亞裔公司 雄獅之心 55 週年慶典
DESCRIPTION:感謝您與 ASIAN\, Inc. 攜手合作。您的支持已協助企業家成長、幫助數十個低收入家庭實現擁有房屋的夢想，並加強我們所服務社區的安全性。  \n今年是我們 55 週年的重要里程碑。在我們回顧我們的歷史並展望未來之際，我們誠摯邀請您與我們一同慶祝我們的翡翠週年慶典。  \n敬請期待： \n亞裔公司（ASIAN\, Inc.）雄獅–之心 55 週年慶典\n2026 年 10 月 2 日星期五\n舊金山麗思卡爾頓酒店（Stockton 街 600 號） \n我們期待與您一同慶祝。 更多資訊請參閱 https://www.asianinc.org/gala/
URL:https://www.asianinc.org/zh/event/%e4%ba%9e%e8%a3%94%e5%85%ac%e5%8f%b8-%e9%9b%84%e7%8d%85%e4%b9%8b%e5%bf%83-55-%e9%80%b1%e5%b9%b4%e6%85%b6%e5%85%b8/
LOCATION:舊金山麗思卡爾頓酒店\, 史托克頓街 600 號\, 舊金山\, 加州\, 94108\, United States
CATEGORIES:社區
ATTACH;FMTTYPE=image/png:https://www.asianinc.org/wp-content/uploads/2025/12/LION-HEARTED-png-scaled.png
END:VEVENT
END:VCALENDAR