BEGIN:VCALENDAR
VERSION:2.0
PRODID:-//ASIAN, Inc. | Non-profit - ECPv6.15.17.1//NONSGML v1.0//EN
CALSCALE:GREGORIAN
METHOD:PUBLISH
X-WR-CALNAME:ASIAN, Inc. | Non-profit
X-ORIGINAL-URL:https://www.asianinc.org/zh/
X-WR-CALDESC:ASIAN, Inc. | Non-profit的活动
REFRESH-INTERVAL;VALUE=DURATION:PT1H
X-Robots-Tag:noindex
X-PUBLISHED-TTL:PT1H
BEGIN:VTIMEZONE
TZID:UTC
BEGIN:STANDARD
TZOFFSETFROM:+0000
TZOFFSETTO:+0000
TZNAME:UTC
DTSTART:20240101T000000
END:STANDARD
END:VTIMEZONE
BEGIN:VEVENT
DTSTART;TZID=UTC:20251003T170000
DTEND;TZID=UTC:20251003T210000
DTSTAMP:20260420T045412
CREATED:20250917T173857Z
LAST-MODIFIED:20250917T173857Z
UID:6894-1759510800-1759525200@www.asianinc.org
SUMMARY:亞裔公司 (ASIAN\, Inc.) 54 週年慶晚會
DESCRIPTION:在這個充滿深刻變革和不確定性的時代，團結一致比以往任何時候都更加重要。我們 2025 年的盛會主題「邁向更完善的聯盟」反映了 ASIAN\, Inc. 對團結、協作和社群力量的堅定承諾。我們從每天突破界限，努力建設更美好未來的領導者、合作夥伴和鄰居身上汲取力量。如需詳細資訊，請發送電子郵件至 gala@asianinc.org 或致電 (415) 928-5910 分機 168。
URL:https://www.asianinc.org/zh/event/%e4%ba%9e%e8%a3%94%e5%85%ac%e5%8f%b8-asian-inc-54-%e9%80%b1%e5%b9%b4%e6%85%b6%e6%99%9a%e6%9c%83/
LOCATION:舊金山洲際馬克·霍普金斯酒店\, 加利福尼亞街 999 號\, 舊金山\, 94108\, United States
CATEGORIES:社區
ATTACH;FMTTYPE=image/png:https://www.asianinc.org/wp-content/uploads/2025/08/GALA-54TH-png.png
END:VEVENT
BEGIN:VEVENT
DTSTART;TZID=UTC:20251011T180000
DTEND;TZID=UTC:20251011T220000
DTSTAMP:20260420T045412
CREATED:20250917T175438Z
LAST-MODIFIED:20250917T175438Z
UID:6901-1760205600-1760220000@www.asianinc.org
SUMMARY:舊金山美食饗宴
DESCRIPTION:Project by Project (PbP) 誠摯邀請您參加 Plate by Plate – San Francisco，共度難忘的夜晚。屆時，灣區頂尖主廚、餐飲品牌、飲品概念、社區組織和領袖將齊聚一堂，共同慶祝亞裔美國人和太平洋島民 (AAPI) 的慈善事業以及當地非營利社群。除了品嚐 30 多家餐飲合作夥伴提供的優質美食外，賓客還可欣賞現場娛樂表演、參與無聲拍賣、抽獎等活動。   \nPlate by Plate 是 PbP 的年度旗艦募款活動，匯集了舊金山灣區最精緻的餐廳和飲品供應商。今年的 Plate by Plate 將在 San Francisco Design Center Galleria 舉行，這是一個位於市中心的絕佳場地，擁有適合奢華時尚之夜的多層建築。除了廣受歡迎的餐飲合作夥伴外，還有許多提供獨特小點、飲品和甜點的新供應商將參與本次盛會！   \n\n\n貴賓入場：下午 6 點 \n\n\n一般入場：晚上 7 點 \n\n\nPlate by Plate 最後入場時間：晚上 8:30  \n\n\n觀看去年 Plate by Plate 的回顧影片 這裡！今年活動的收益將支持 Project by Project 的使命，即透過創新的慈善事業培養 AAPI 領袖人才，以及 Project by Project 的年度社區發展主題及其 2025 年的受益合作夥伴 ASIAN\, Inc.！  \n凡購買 Plate by Plate 的門票，Project by Project 將直接捐款給 ASIAN\, Inc.，以幫助亞裔美國人和其他社會經濟弱勢群體獲得經濟適用房、商業發展和財務獨立。
URL:https://www.asianinc.org/zh/event/%e8%88%8a%e9%87%91%e5%b1%b1%e7%be%8e%e9%a3%9f%e9%a5%97%e5%ae%b4/
LOCATION:舊金山設計中心藝廊\, 亨利·亞當斯街 101 號\, 舊金山\, 加州\, 94103\, United States
CATEGORIES:商業,宣傳
ATTACH;FMTTYPE=image/png:https://www.asianinc.org/wp-content/uploads/2025/09/10.11.2025-PbP-png.png
END:VEVENT
BEGIN:VEVENT
DTSTART;TZID=UTC:20251014T130000
DTEND;TZID=UTC:20251014T150000
DTSTAMP:20260420T045412
CREATED:20251021T175249Z
LAST-MODIFIED:20251021T175249Z
UID:7008-1760446800-1760454000@www.asianinc.org
SUMMARY:保護海沃德的房屋所有權：灣區的心臟地帶
DESCRIPTION:🏠 保護海沃德的房屋所有權：灣區的心臟地帶\n📅 10 月 14 日（星期二）| 下午 1:00–3:00\n📍 海沃德公共圖書館 | 888 C Street\, Hayward\, CA 94541 \n在加州各地，房屋所有權常被視為穩定生活的途徑，但對許多海沃德家庭而言，產權盜竊、掠奪性房主協會行為、遺產糾紛和語言障礙等隱藏風險正威脅著這個夢想。 \n請加入我們的現場社區論壇，與律師、倡議者和房主一同探討這些挑戰，並分享保護家庭房屋的實用步驟。讓我們一起強調為何保護房屋所有權不僅能鞏固家庭，更能鞏固整個社區。
URL:https://www.asianinc.org/zh/event/%e4%bf%9d%e8%ad%b7%e6%b5%b7%e6%b2%83%e5%be%b7%e7%9a%84%e6%88%bf%e5%b1%8b%e6%89%80%e6%9c%89%e6%ac%8a%ef%bc%9a%e7%81%a3%e5%8d%80%e7%9a%84%e5%bf%83%e8%87%9f%e5%9c%b0%e5%b8%b6/
LOCATION:海沃德公共圖書館\, 888 C Street\, 海沃德\, 加州\, 94541\, United States
CATEGORIES:住房咨询,社區
ATTACH;FMTTYPE=image/png:https://www.asianinc.org/wp-content/uploads/2025/10/Invite-10-14-25-HERA-Home-Ownership-2-1-png-scaled.png
END:VEVENT
BEGIN:VEVENT
DTSTART;TZID=UTC:20251015T100000
DTEND;TZID=UTC:20251015T123000
DTSTAMP:20260420T045412
CREATED:20251022T231159Z
LAST-MODIFIED:20251022T231159Z
UID:7017-1760522400-1760531400@www.asianinc.org
SUMMARY:密爾皮塔斯就業與資源博覽會
DESCRIPTION:歡迎參加 密爾皮塔斯 就業與資源博覽會！\nASIAN\, Inc. 將與 密爾皮塔斯 聯合學區共同分享有關工作權利和保障的免費社區資訊。無論您是求職者、在職人員或雇主，我們的團隊將提供聖塔克拉拉縣當地工資法規、職場保障和法律援助服務等重要資源。  \n密爾皮塔斯 創新園區，1331 E. Calaveras Blvd. B115，密爾皮塔斯，CA\n2025 年 10 月 15 日，星期三 | 上午 10:00 – 下午 12:30  \n歡迎蒞臨我們的攤位索取多語言資源、提出問題，並了解您或您的工作場所如何保持資訊暢通和權益保障。
URL:https://www.asianinc.org/zh/event/%e5%af%86%e7%88%be%e7%9a%ae%e5%a1%94%e6%96%af%e5%b0%b1%e6%a5%ad%e8%88%87%e8%b3%87%e6%ba%90%e5%8d%9a%e8%a6%bd%e6%9c%83/
LOCATION:米爾皮塔斯創新園區\, 1331 東卡拉維拉斯大道\, 密爾比達斯\, 加州\, 95035\, United States
CATEGORIES:商業,社區
ATTACH;FMTTYPE=image/jpeg:https://www.asianinc.org/wp-content/uploads/2025/10/Milpitas-Job-Fair-Flyer-Final-jpg.jpg
END:VEVENT
BEGIN:VEVENT
DTSTART;TZID=UTC:20251029T120000
DTEND;TZID=UTC:20251029T133000
DTSTAMP:20260420T045412
CREATED:20251022T233500Z
LAST-MODIFIED:20251022T233500Z
UID:7027-1761739200-1761744600@www.asianinc.org
SUMMARY:2050+ 灣區規劃草案在此：網路研討會 #1 – 北灣
DESCRIPTION:View this information online in English\n在網上查看中文版詳情\nVer la información en línea en español \n經過兩年多的公眾討論、技術分析和改進，大都會交通委員會 (MTC) 和灣區政府協會 (ABAG) 已發布2050+ 灣區規劃草案 供審查和評論。該規劃包含 35 項策略，代表可在 2050 年前在灣區實施的公共政策和投資，以幫助該地區建造更多住房、縮短通勤時間，並為每個人創造充滿活力的市中心和自然區域。該規劃的策略還旨在保護人們免受自然災害的威脅，支持強勁的經濟發展，並為最需要的人提供穩定的住房。    \n本次規劃週期的獨特之處在於同步進行的交通運輸 2050+規劃工作，這項工作與全區域的交通運營商合作，culminated 成為首個重新構想灣區公共交通未來的規劃。 \n規劃草案、實施計劃草案以及各種補充報告現已開放供審查和評論。 \n請在planbayarea.org/draftplan閱讀 2050+ 灣區規劃草案和補充報告，並在 12 月 18 日前提交您的意見。 \n參與機會\n網路研討會\n\n網路研討會 #1 – 北灣\n2025 年 10 月 29 日，星期三\n中午 12 點至下午 1 點 30 分\nZoom 連結：https://bit.ly/northbaywebinar\n\n網路研討會 ID：892 3077 8001\n密碼：256814\n美國免費電話：888-788-0099  \n\n網路研討會 #2 – 西灣\n2025 年 10 月 29 日，星期三\n晚上 6 點至 7 點 30 分\nZoom 連結：https://bit.ly/westbaywebinar\n網路研討會 ID：831 4140 5598\n密碼：096944\n美國免費電話：888-788-0099 \n網路研討會 #3 – 南灣\n2025 年 10 月 30 日，星期四\n晚上 6 點至 7 點 30 分\nZoom 連結：https://bit.ly/southbaywebinar\n網路研討會 ID：822 2561 7467\n密碼：356845\n美國免費電話：888-788-0099 \n網路研討會 #4 – 東灣\n2025 年 11 月 5 日，星期三\n晚上 6 點至 7 點 30 分\nZoom 連結：https://bit.ly/eastbaywebinar\n網路研討會 ID：869 8283 4999\n密碼：682098\n美國免費電話：888-788-0099
URL:https://www.asianinc.org/zh/event/2050-%e7%81%a3%e5%8d%80%e8%a6%8f%e5%8a%83%e8%8d%89%e6%a1%88%e5%9c%a8%e6%ad%a4%ef%bc%9a%e7%b6%b2%e8%b7%af%e7%a0%94%e8%a8%8e%e6%9c%83-1-%e5%8c%97%e7%81%a3/
LOCATION:Zoom 線上研討會（線上）
CATEGORIES:住房咨询
ATTACH;FMTTYPE=image/png:https://www.asianinc.org/wp-content/uploads/2025/10/PBA-2050-png.png
END:VEVENT
BEGIN:VEVENT
DTSTART;TZID=UTC:20251029T180000
DTEND;TZID=UTC:20251029T193000
DTSTAMP:20260420T045412
CREATED:20251022T233836Z
LAST-MODIFIED:20251022T234758Z
UID:7030-1761760800-1761766200@www.asianinc.org
SUMMARY:灣區 2050+ 草案計畫在此：網路研討會 #2 – 西灣區
DESCRIPTION:在線上查看英文版資訊\n在網上查看中文版詳情\nVer la información en línea en español \n經過兩年多的公眾討論、技術分析和改進，大都會交通委員會 (MTC) 和灣區政府協會 (ABAG) 已發布2050+ 灣區規劃草案 供審查和評論。該規劃包含 35 項策略，代表可在 2050 年前在灣區實施的公共政策和投資，以幫助該地區建造更多住房、縮短通勤時間，並為每個人創造充滿活力的市中心和自然區域。該規劃的策略還旨在保護人們免受自然災害的威脅，支持強勁的經濟發展，並為最需要的人提供穩定的住房。    \n本次規劃週期的獨特之處在於同步進行的交通運輸 2050+規劃工作，這項工作與全區域的交通運營商合作，culminated 成為首個重新構想灣區公共交通未來的規劃。 \n規劃草案、實施計劃草案以及各種補充報告現已開放供審查和評論。 \n請在planbayarea.org/draftplan閱讀 2050+ 灣區規劃草案和補充報告，並在 12 月 18 日前提交您的意見。 \n參與機會\n網路研討會\n\n網路研討會 #1 – 北灣\n2025 年 10 月 29 日，星期三\n中午 12 點至下午 1 點 30 分\nZoom 連結：https://bit.ly/northbaywebinar\n\n網路研討會 ID：892 3077 8001\n密碼：256814\n美國免費電話：888-788-0099  \n\n網路研討會 #2 – 西灣\n2025 年 10 月 29 日，星期三\n晚上 6 點至 7 點 30 分\nZoom 連結：https://bit.ly/westbaywebinar\n網路研討會 ID：831 4140 5598\n密碼：096944\n美國免費電話：888-788-0099 \n網路研討會 #3 – 南灣\n2025 年 10 月 30 日，星期四\n晚上 6 點至 7 點 30 分\nZoom 連結：https://bit.ly/southbaywebinar\n網路研討會 ID：822 2561 7467\n密碼：356845\n美國免費電話：888-788-0099 \n\n網路研討會 #4 – 東灣\n2025 年 11 月 5 日，星期三\n晚上 6 點至 7 點 30 分\nZoom 連結：https://bit.ly/eastbaywebinar\n網路研討會 ID：869 8283 4999\n密碼：682098\n美國免費電話：888-788-0099
URL:https://www.asianinc.org/zh/event/%e7%81%a3%e5%8d%80-2050-%e8%8d%89%e6%a1%88%e8%a8%88%e7%95%ab%e5%9c%a8%e6%ad%a4%ef%bc%9a%e7%b6%b2%e8%b7%af%e7%a0%94%e8%a8%8e%e6%9c%83-2-%e8%a5%bf%e7%81%a3%e5%8d%80/
LOCATION:Zoom 線上研討會（線上）
CATEGORIES:住房咨询
ATTACH;FMTTYPE=image/png:https://www.asianinc.org/wp-content/uploads/2025/10/PBA-2050-png.png
END:VEVENT
BEGIN:VEVENT
DTSTART;TZID=UTC:20251030T180000
DTEND;TZID=UTC:20251030T193000
DTSTAMP:20260420T045412
CREATED:20251022T234135Z
LAST-MODIFIED:20251022T234538Z
UID:7033-1761847200-1761852600@www.asianinc.org
SUMMARY:2050+ 灣區規劃草案在此：網路研討會 #3 – 南灣
DESCRIPTION:在線上查看英文版資訊\n在網上查看中文版詳情\nVer la información en línea en español \n經過兩年多的公眾討論、技術分析和改進，大都會交通委員會 (MTC) 和灣區政府協會 (ABAG) 已發布2050+ 灣區規劃草案 供審查和評論。該規劃包含 35 項策略，代表可在 2050 年前在灣區實施的公共政策和投資，以幫助該地區建造更多住房、縮短通勤時間，並為每個人創造充滿活力的市中心和自然區域。該規劃的策略還旨在保護人們免受自然災害的威脅，支持強勁的經濟發展，並為最需要的人提供穩定的住房。    \n本次規劃週期的獨特之處在於同步進行的交通運輸 2050+規劃工作，這項工作與全區域的交通運營商合作，culminated 成為首個重新構想灣區公共交通未來的規劃。 \n規劃草案、實施計劃草案以及各種補充報告現已開放供審查和評論。 \n請在planbayarea.org/draftplan閱讀 2050+ 灣區規劃草案和補充報告，並在 12 月 18 日前提交您的意見。 \n參與機會\n網路研討會\n\n網路研討會 #1 – 北灣\n2025 年 10 月 29 日，星期三\n中午 12 點至下午 1 點 30 分\nZoom 連結：https://bit.ly/northbaywebinar\n\n網路研討會 ID：892 3077 8001\n密碼：256814\n美國免費電話：888-788-0099  \n\n網路研討會 #2 – 西灣\n2025 年 10 月 29 日，星期三\n晚上 6 點至 7 點 30 分\nZoom 連結：https://bit.ly/westbaywebinar\n網路研討會 ID：831 4140 5598\n密碼：096944\n美國免費電話：888-788-0099 \n網路研討會 #3 – 南灣\n2025 年 10 月 30 日，星期四\n晚上 6 點至 7 點 30 分\nZoom 連結：https://bit.ly/southbaywebinar\n網路研討會 ID：822 2561 7467\n密碼：356845\n美國免費電話：888-788-0099 \n\n網路研討會 #4 – 東灣\n2025 年 11 月 5 日，星期三\n晚上 6 點至 7 點 30 分\nZoom 連結：https://bit.ly/eastbaywebinar\n網路研討會 ID：869 8283 4999\n密碼：682098\n美國免費電話：888-788-0099
URL:https://www.asianinc.org/zh/event/2050-%e7%81%a3%e5%8d%80%e8%a6%8f%e5%8a%83%e8%8d%89%e6%a1%88%e5%9c%a8%e6%ad%a4%ef%bc%9a%e7%b6%b2%e8%b7%af%e7%a0%94%e8%a8%8e%e6%9c%83-3-%e5%8d%97%e7%81%a3/
LOCATION:Zoom 線上研討會（線上）
CATEGORIES:住房咨询
ATTACH;FMTTYPE=image/png:https://www.asianinc.org/wp-content/uploads/2025/10/PBA-2050-png.png
END:VEVENT
END:VCALENDAR