BEGIN:VCALENDAR
VERSION:2.0
PRODID:-//ASIAN, Inc. | Non-profit - ECPv6.15.17.1//NONSGML v1.0//EN
CALSCALE:GREGORIAN
METHOD:PUBLISH
X-WR-CALNAME:ASIAN, Inc. | Non-profit
X-ORIGINAL-URL:https://www.asianinc.org/zh/
X-WR-CALDESC:ASIAN, Inc. | Non-profit的活动
REFRESH-INTERVAL;VALUE=DURATION:PT1H
X-Robots-Tag:noindex
X-PUBLISHED-TTL:PT1H
BEGIN:VTIMEZONE
TZID:UTC
BEGIN:STANDARD
TZOFFSETFROM:+0000
TZOFFSETTO:+0000
TZNAME:UTC
DTSTART:20240101T000000
END:STANDARD
END:VTIMEZONE
BEGIN:VEVENT
DTSTART;TZID=UTC:20251101T100000
DTEND;TZID=UTC:20251101T120000
DTSTAMP:20260420T033131
CREATED:20251024T180358Z
LAST-MODIFIED:20251024T181344Z
UID:7066-1761991200-1761998400@www.asianinc.org
SUMMARY:MOHCD 購屋者計畫說明會（線上 - 英文）
DESCRIPTION:MOHCD 購房者計畫說明會（英語） \n歡迎參加我們的免費 2 小時說明會，瞭解由市長房屋及社區發展辦公室 (MOHCD) 提供的舊金山購房者計畫，並決定是否要繼續完成剩餘的購房者教育課程。本次說明會將概述可負擔的城市計畫，包括資格要求、頭期款補助、申請流程、抽籤優先順序等！  \n  \n如何加入： Zoom 線上研討會 \n註冊連結：https://asian-inc.zoom.us/webinar/register/WN_JnifantESkWzJpYGEucXBA \n  \n如有任何問題，請發送電子郵件至 housing.counseling@asianinc.org。 \n  \n主題 \n\n房屋所有權的益處與責任\nMOHCD 購房者計畫\n低於市場價格的房屋\n頭期款補助\n\n語言 \n本次說明會以英語進行。
URL:https://www.asianinc.org/zh/event/mohcd-%e8%b3%bc%e5%b1%8b%e8%80%85%e8%a8%88%e7%95%ab%e8%aa%aa%e6%98%8e%e6%9c%83%ef%bc%88%e7%b7%9a%e4%b8%8a-%e8%8b%b1%e6%96%87%ef%bc%89/
CATEGORIES:住房咨询
END:VEVENT
BEGIN:VEVENT
DTSTART;TZID=UTC:20251101T130000
DTEND;TZID=UTC:20251101T150000
DTSTAMP:20260420T033131
CREATED:20251024T184049Z
LAST-MODIFIED:20251024T184049Z
UID:7078-1762002000-1762009200@www.asianinc.org
SUMMARY:Post-Purchase Workshop : Home Maintenance (Online-Cantonese) 購屋後講座: 家居維護 (綫上-粵語)
DESCRIPTION:本工作坊旨在為新屋主提供房屋所有權各方面的指導，包括財務規劃、房屋維護、屋主協會 (HOA) 以及應急準備。它強調預算編列的重要性、了解 HOA 的責任和管理、進行房屋維修和改善，以及保存記錄以實現有效的維護和財務穩定。  \n該講座為新屋主提供了關於房屋所有權的各種方面的指導，包括財務規劃、家居維護、房屋業主委員會（HOA）和緊急應對等。强調了預算編制的重要性，理解HOA的責任和管理，進行家居維護和改善，以及保留記錄以實現有效的維護和財務穩定性。
URL:https://www.asianinc.org/zh/event/post-purchase-workshop-home-maintenance-online-cantonese-%e8%b3%bc%e5%b1%8b%e5%be%8c%e8%ac%9b%e5%ba%a7-%e5%ae%b6%e5%b1%85%e7%b6%ad%e8%ad%b7-%e7%b6%ab%e4%b8%8a-%e7%b2%b5%e8%aa%9e/
CATEGORIES:住房咨询
END:VEVENT
BEGIN:VEVENT
DTSTART;TZID=UTC:20251105T180000
DTEND;TZID=UTC:20251105T193000
DTSTAMP:20260420T033131
CREATED:20251022T234313Z
LAST-MODIFIED:20251022T234313Z
UID:7038-1762365600-1762371000@www.asianinc.org
SUMMARY:灣區 2050+ 草案計畫在此：網路研討會 #4 – 東灣
DESCRIPTION:在線上查看英文版資訊\n在網上查看中文版詳情\nVer la información en línea en español \n經過兩年多的公眾討論、技術分析和改進，大都會交通委員會 (MTC) 和灣區政府協會 (ABAG) 已發布2050+ 灣區規劃草案 供審查和評論。該規劃包含 35 項策略，代表可在 2050 年前在灣區實施的公共政策和投資，以幫助該地區建造更多住房、縮短通勤時間，並為每個人創造充滿活力的市中心和自然區域。該規劃的策略還旨在保護人們免受自然災害的威脅，支持強勁的經濟發展，並為最需要的人提供穩定的住房。    \n本次規劃週期的獨特之處在於同步進行的交通運輸 2050+規劃工作，這項工作與全區域的交通運營商合作，culminated 成為首個重新構想灣區公共交通未來的規劃。 \n規劃草案、實施計劃草案以及各種補充報告現已開放供審查和評論。 \n請在planbayarea.org/draftplan閱讀 2050+ 灣區規劃草案和補充報告，並在 12 月 18 日前提交您的意見。 \n參與機會\n網路研討會\n\n網路研討會 #1 – 北灣\n2025 年 10 月 29 日，星期三\n中午 12 點至下午 1 點 30 分\nZoom 連結：https://bit.ly/northbaywebinar\n\n網路研討會 ID：892 3077 8001\n密碼：256814\n美國免費電話：888-788-0099  \n\n網路研討會 #2 – 西灣\n2025 年 10 月 29 日，星期三\n晚上 6 點至 7 點 30 分\nZoom 連結：https://bit.ly/westbaywebinar\n網路研討會 ID：831 4140 5598\n密碼：096944\n美國免費電話：888-788-0099 \n網路研討會 #3 – 南灣\n2025 年 10 月 30 日，星期四\n晚上 6 點至 7 點 30 分\nZoom 連結：https://bit.ly/southbaywebinar\n網路研討會 ID：822 2561 7467\n密碼：356845\n美國免費電話：888-788-0099 \n\n網路研討會 #4 – 東灣\n2025 年 11 月 5 日，星期三\n晚上 6 點至 7 點 30 分\nZoom 連結：https://bit.ly/eastbaywebinar\n網路研討會 ID：869 8283 4999\n密碼：682098\n美國免費電話：888-788-0099
URL:https://www.asianinc.org/zh/event/%e7%81%a3%e5%8d%80-2050-%e8%8d%89%e6%a1%88%e8%a8%88%e7%95%ab%e5%9c%a8%e6%ad%a4%ef%bc%9a%e7%b6%b2%e8%b7%af%e7%a0%94%e8%a8%8e%e6%9c%83-4-%e6%9d%b1%e7%81%a3/
LOCATION:Zoom 線上研討會（線上）
CATEGORIES:住房咨询
ATTACH;FMTTYPE=image/png:https://www.asianinc.org/wp-content/uploads/2025/10/PBA-2050-png.png
END:VEVENT
BEGIN:VEVENT
DTSTART;TZID=UTC:20251113T173000
DTEND;TZID=UTC:20251113T193000
DTSTAMP:20260420T033131
CREATED:20251021T172626Z
LAST-MODIFIED:20251021T172647Z
UID:6996-1763055000-1763062200@www.asianinc.org
SUMMARY:AAPI 賦權時光：正念連結
DESCRIPTION:歡迎參加這個充滿連結、對話和社區交流的夜晚！\nAAPI 賦權時光：正念連結將匯集朋友、同事和社區成員，一同建立人脈、放鬆身心，並支持 AAPI 社區的心理健康意識。 \n🎟 您的 $10 門票包含： \n\n\n精緻小點心及參與充滿活力的交流活動 \n\n\n與本地非營利組織領袖會面並了解志工及董事會機會 \n\n\n一個有意義的回饋方式 – 當晚飲品收益的 20% 將由麻將先生慷慨捐贈給列治文區多元服務中心 (RAMS)。 \n\n\n🧠 關於 RAMS：\nRAMS 是一個非營利組織，為 AAPI 社區提供具文化敏感度的社區心理健康服務和計劃，以支持社區的健康和韌性。 \n📍 地點：麻將先生，舊金山\n📅 日期：2025 年 11 月 13 日，星期四\n🕠 時間：下午 5:30 – 7:30 \n來認識富有啟發性的人士，享受美食佳飲，並採取行動強化我們的社區。 \n🤝 活動合作夥伴： \n\n\nRAMS \n\n\n亞洲公司 \n\n\n華美 \n\n\n舊金山中華文化中心 \n\n\n日落中華文化特區
URL:https://www.asianinc.org/zh/event/aapi-%e8%b3%a6%e6%ac%8a%e6%99%82%e5%85%89%ef%bc%9a%e6%ad%a3%e5%bf%b5%e9%80%a3%e7%b5%90/
LOCATION:麻將先生的\, 柯尼街 260 號\, 舊金山\, 加州\, 94108\, United States
CATEGORIES:社區
ATTACH;FMTTYPE=image/png:https://www.asianinc.org/wp-content/uploads/2025/10/11.13-AAPI-Empower-Hour-png.png
END:VEVENT
BEGIN:VEVENT
DTSTART;TZID=UTC:20251114T093000
DTEND;TZID=UTC:20251114T103000
DTSTAMP:20260420T033131
CREATED:20251113T061745Z
LAST-MODIFIED:20251113T061745Z
UID:7154-1763112600-1763116200@www.asianinc.org
SUMMARY:灣區 2050+ 年草案計畫在此：公聽會 #1 – MTC 規劃委員會和 ABAG 行政委員會
DESCRIPTION:在網路上以英文檢視此資訊\n在網上查看中文版詳情\nVer la información en línea en español \n經過兩年多的公眾討論、技術分析和改進，大都會交通委員會 (MTC) 和灣區政府協會 (ABAG) 已發布2050+ 灣區規劃草案 供審查和評論。該規劃包含 35 項策略，代表可在 2050 年前在灣區實施的公共政策和投資，以幫助該地區建造更多住房、縮短通勤時間，並為每個人創造充滿活力的市中心和自然區域。該規劃的策略還旨在保護人們免受自然災害的威脅，支持強勁的經濟發展，並為最需要的人提供穩定的住房。    \n本次規劃週期的獨特之處在於同步進行的交通運輸 2050+規劃工作，這項工作與全區域的交通運營商合作，culminated 成為首個重新構想灣區公共交通未來的規劃。 \n規劃草案、實施計劃草案以及各種補充報告現已開放供審查和評論。 \n請在planbayarea.org/draftplan閱讀 2050+ 灣區規劃草案和補充報告，並在 12 月 18 日前提交您的意見。 \n參與機會\n公聽會\n\n公聽會 #1 – MTC 規劃委員會和 ABAG 行政委員會\n2025 年 11 月 14 日，星期五\n上午 9:40\n灣區都會中心 -或- Zoom\n會議室 1st 樓\n375 beale Street\, San Francisco\n\n透過 Zoom 加入的指示 \n注意：會議開始時間可能會有所不同。 \n\n公聽會 #2 – 佛利蒙 \n2025 年 12 月 3 日，星期三\n下午 6 點\nOlive Hyde 藝術中心和畫廊 -或- Zoom\n123 Washington boulevard\, Fremont\nZoom 連結：https://bit.ly/drafthearing2\n網路研討會 ID：875 7625 3306\n密碼：178983\n888 788 0099 美國免付費電話\n公聽會 #3 – 諾瓦托\n2025 年 12 月 4 日，星期四\n下午 6 點\n諾瓦托奧克斯旅館 -或- Zoom\nBest Western Plus Novato Oaks Inn \n\n215 Alameda del Prado\, Novato\nZoom 連結：https://bit.ly/drafthearing3\n網路研討會 ID：898 0347 9624\n888 788 0099 美國免付費電話
URL:https://www.asianinc.org/zh/event/%e7%81%a3%e5%8d%80-2050-%e5%b9%b4%e8%8d%89%e6%a1%88%e8%a8%88%e7%95%ab%e5%9c%a8%e6%ad%a4%ef%bc%9a%e5%85%ac%e8%81%bd%e6%9c%83-1-mtc-%e8%a6%8f%e5%8a%83%e5%a7%94%e5%93%a1%e6%9c%83%e5%92%8c-aba/
LOCATION:灣區都會中心\, 375 Beale 街\, 舊金山\, 加州\, 94105\, United States
CATEGORIES:住房咨询
ATTACH;FMTTYPE=image/png:https://www.asianinc.org/wp-content/uploads/2025/10/PBA-2050-png.png
END:VEVENT
BEGIN:VEVENT
DTSTART;TZID=UTC:20251116T100000
DTEND;TZID=UTC:20251116T170000
DTSTAMP:20260420T033131
CREATED:20251024T181017Z
LAST-MODIFIED:20251024T181242Z
UID:7071-1763287200-1763312400@www.asianinc.org
SUMMARY:首次購房者教育與認證工作坊（線上英文工作坊）
DESCRIPTION:透過參加首次購房者教育與認證工作坊，您可以了解貸款的基本要求，以及如何提升信用和財務管理技能。此外，您還可以學習購房的步驟，包括房屋選購、提出報價和過戶期，以便在購房前做好更充分的準備！  \n  \n工作坊費用：免費\n如何加入：Zoom 線上研討會（會議詳細資訊將於註冊確認後提供）\n註冊連結：https://asian-inc.zoom.us/meeting/register/6wRzfawNQbaXifltpjyObw \n  \n工作坊主題 \n\n信用和財務管理的重要性\n貸款的基本要求\n房地產知識\n購房步驟\n\n  \n如何取得教育完成信函 \n\n完成 2 小時的 SFMOHCD 購房者入門課程（僅適用於參與舊金山房屋援助計畫）\n完成 6 小時的首次購房者工作坊\n完成 2 小時的購房者諮詢環節\n\n  \n工作坊詳細資訊\n環節\n工作坊分為兩個環節舉行，中間休息一小時。您必須參加兩個環節。  \n\n第一節：上午 10 點 – 下午 1 點\n第二節：下午 2 點 – 下午 5 點\n\n  \n語言\n工作坊以英文進行。
URL:https://www.asianinc.org/zh/event/%e9%a6%96%e6%ac%a1%e8%b3%bc%e6%88%bf%e8%80%85%e6%95%99%e8%82%b2%e8%88%87%e8%aa%8d%e8%ad%89%e5%b7%a5%e4%bd%9c%e5%9d%8a%ef%bc%88%e7%b7%9a%e4%b8%8a%e8%8b%b1%e6%96%87%e5%b7%a5%e4%bd%9c%e5%9d%8a%ef%bc%89-4/
LOCATION:Zoom 線上研討會（線上）
CATEGORIES:住房咨询
ATTACH;FMTTYPE=image/png:https://www.asianinc.org/wp-content/uploads/2025/10/FTHB_workshop_English-png.png
END:VEVENT
BEGIN:VEVENT
DTSTART;TZID=UTC:20251130T160000
DTEND;TZID=UTC:20251130T173000
DTSTAMP:20260420T033131
CREATED:20251123T223636Z
LAST-MODIFIED:20251123T223636Z
UID:7228-1764518400-1764523800@www.asianinc.org
SUMMARY:[網路研討會] 小型企業的基本職場權利
DESCRIPTION:加州職場保護措施的最新更新，為雇主帶來了新的責任，並擴大了勞工的權利。 \n  \n我們準備了一場深入的研討會，涵蓋加州最重要的職場權利與責任。本研討會適合小型企業主、經理、勞工和倡議者。掌握不斷演進的制度，以維護聖塔克拉拉縣及以外地區公平、安全且合規的職場標準。   \n  \n我們很高興邀請 Ruth Silver-Taube 擔任我們的客座講師，她是此領域的真正專家。憑藉數十年直接協助當地社區解決就業和勞工問題的經驗，她將複雜的勞工法規分解為簡單的關鍵概念，並闡述這對您有何意義。  \n  \n我們將帶您了解： \n– 有薪病假：誰符合資格、累積方式、使用規定 \n– FMLA 與 CFRA：受工作保護的家庭和醫療假 \n– 懷孕殘疾假：懷孕期間的權利與復職 \n– 必備手冊：所有雇主必須提供的強制性 SDI 與 PFL 通知 \n– 加班規定：每日/每週計算方式、豁免情況、常見違規行為 \n  \n無論您是希望了解自身權利並在遇到問題時受到保護的員工，還是尋求保持合規並避免罰款的企業主，本次會議將為您提供實用指導，並為您提供可立即使用的工具。 \n  \n透過分享我們的註冊連結，賦予您周圍的人力量：https://asian-inc.zoom.us/webinar/register/WN_-2AGccwSQAy6DrsMjzUZXQ
URL:https://www.asianinc.org/zh/event/%e7%b6%b2%e8%b7%af%e7%a0%94%e8%a8%8e%e6%9c%83-%e5%b0%8f%e5%9e%8b%e4%bc%81%e6%a5%ad%e7%9a%84%e5%9f%ba%e6%9c%ac%e8%81%b7%e5%a0%b4%e6%ac%8a%e5%88%a9/
LOCATION:Zoom 線上研討會（線上）
CATEGORIES:商業
ATTACH;FMTTYPE=image/png:https://www.asianinc.org/wp-content/uploads/2025/11/11.30.2025-Essential-Workplace-Rights-for-Small-Businesses-png.png
END:VEVENT
END:VCALENDAR